BEGIN:VCALENDAR
VERSION:2.0
CALSCALE:GREGORIAN
METHOD:PUBLISH
PRODID://WEHO//1398612
BEGIN:VEVENT
DTSTAMP:20260424T090016
VTIMEZONE:America/Los_Angeles
DTSTART:20260317T190000Z
DTEND:20260317T210000Z
UID:1398612
SUMMARY:WHCC Board of Directors Meeting
LOCATION:, CA
DESCRIPTION:WHCC Board of Directors Meeting\n\n03/17/26 12:00 PM PST\n - 03/17/26 02:00 PM PST
X-ALT-DESC;FMTTYPE=text/html:WHCC Board of Directors Meeting<br /><br />03/17/26 12:00 PM PST - 03/17/26 02:00 PM PST
PRIORITY:3
TRANSP:TRANSPARENT
BEGIN:VALARM
TRIGGER:-PT5M
ACTION:DISPLAY
DESCRIPTION:Reminder
END:VALARM
END:VEVENT
END:VCALENDAR
