BEGIN:VCALENDAR
VERSION:2.0
CALSCALE:GREGORIAN
METHOD:PUBLISH
PRODID://KING//1399110
BEGIN:VEVENT
DTSTAMP:20260422T104401
VTIMEZONE:America/Denver
DTSTART:20260116T183000Z
DTEND:20260116T213000Z
UID:1399110
SUMMARY:Building Arizona's Workforce
LOCATION:Mohave College Advanced Manufacturing Training Center - Room 216, 4415 N. Windrose Ln., Kingman, AZ, 86401
DESCRIPTION:Building Arizona's Workforce\n\n01/16/26 11:30 AM MST\n - 01/16/26 02:30 PM MST\Description:\nJoin community leaders, employers, educators, and residents for the Building Arizona’s Workforce: Kingman Community Town Hall on Friday, January 16, 2026, at Mohave College’s Advanced Manufacturing Training Center (Room 216) in Kingman. This interactive town hall will focus on Arizona’s workforce, encouraging open discussion around current and future workforce needs, identifying solutions, and connecting participants with valuable resources. Check-in and lunch begin at 11:30 AM, followed by the program from noon to 2:30 PM. Registration is free and includes lunch. Advance registration is encouraged at aztownhall.org.\Location:\nMohave College Advanced Manufacturing Training Center - Room 216\n4415 N. Windrose Ln.\nKingman, AZ 86401
X-ALT-DESC;FMTTYPE=text/html:Building Arizona's Workforce<br /><br />01/16/26 11:30 AM MST - 01/16/26 02:30 PM MST<br />Description:<br />Join community leaders, employers, educators, and residents for the <em data-end="342" data-start="283">Building Arizona&rsquo;s Workforce: Kingman Community Town Hall</em> on <strong data-end="374" data-start="346">Friday, January 16, 2026</strong>, at <strong data-end="449" data-start="379">Mohave College&rsquo;s Advanced Manufacturing Training Center (Room 216)</strong> in Kingman. This interactive town hall will focus on Arizona&rsquo;s workforce, encouraging open discussion around current and future workforce needs, identifying solutions, and connecting participants with valuable resources. <strong data-end="711" data-start="671">Check-in and lunch begin at 11:30 AM</strong>, followed by the program from <strong data-end="761" data-start="742">noon to 2:30 PM</strong>. Registration is <strong data-end="806" data-start="779">free and includes lunch</strong>. Advance registration is encouraged at <strong data-end="864" data-start="846">aztownhall.org</strong>.<br />Location:<br />Mohave College Advanced Manufacturing Training Center - Room 216<br />4415 N. Windrose Ln.<br />Kingman, AZ 86401
PRIORITY:3
TRANSP:TRANSPARENT
BEGIN:VALARM
TRIGGER:-PT5M
ACTION:DISPLAY
DESCRIPTION:Reminder
END:VALARM
END:VEVENT
END:VCALENDAR
