BEGIN:VCALENDAR
VERSION:2.0
CALSCALE:GREGORIAN
METHOD:PUBLISH
PRODID://KING//1400286
BEGIN:VEVENT
DTSTAMP:20260422T054242
VTIMEZONE:America/Denver
DTSTART:20260219T163000Z
DTEND:20260219T200000Z
UID:1400286
SUMMARY:2026 Mohave County Master Gardener Training Course
LOCATION: Mohave County Extension Office, 101 E. Beale St., Kingman, AZ, 86401
DESCRIPTION:2026 Mohave County Master Gardener Training Course\n\n02/19/26 09:30 AM MST\n - 02/19/26 01:00 PM MST\Description:\nHello Everyone! We are pleased to announce that registration is now open for the 2026 Mohave County Master Gardener Training Course! Please see below for all of the necessary information. Additionally, the tentative class schedule is attached. \n\nLocation: Mohave County Cooperative Extension Office\n\n101 East Beale Street, Kingman, AZ 86401\n\nDates: Thursdays, January 15 – April 16, 2026\n\nTime: 9:30 am – 1:00 pm\n\nFee: $200 (NON-REFUNDABLE), includes 13 weekly 3½ hour classes & flash drive with class presentations\n\nOptional: Hard copies of all class presentation slides, additional $100.\n\nDeadline for enrollment is Monday, January 12, 2026\n\nTo purchase an AZ Master Gardener Manual please visit the following website:\n\nhttps://shop.arizona.edu/9780999034101-TRADE\n\nTo become a certified Master Gardener, additional requirements apply.\n\nPlease complete the form at the link below to register for the 2026 Mohave County Master Gardener Training Course.\n\Location:\n Mohave County Extension Office\n101 E. Beale St.\nKingman, AZ 86401
X-ALT-DESC;FMTTYPE=text/html:2026 Mohave County Master Gardener Training Course<br /><br />02/19/26 09:30 AM MST - 02/19/26 01:00 PM MST<br />Description:<br /><p>Hello Everyone! We are pleased to announce that registration is now open for the 2026 Mohave County Master Gardener Training Course! Please see below for all of the necessary information. Additionally, the tentative class schedule is attached.&nbsp;</p>

<p>Location: Mohave County Cooperative Extension Office</p>

<p>101 East Beale Street, Kingman, AZ 86401</p>

<p>Dates: Thursdays, January 15 &ndash; April 16, 2026</p>

<p>Time: 9:30 am &ndash; 1:00 pm</p>

<p>Fee: $200 (NON-REFUNDABLE), includes 13 weekly 3&frac12; hour classes &amp; flash drive with class presentations</p>

<p><em>Optional: Hard copies of all class presentation slides, additional $100.</em></p>

<p>Deadline for enrollment is Monday, January 12, 2026</p>

<p>To purchase an AZ Master Gardener Manual please visit the following website:</p>

<p><a data-auth="NotApplicable" data-linkindex="0" href="https://shop.arizona.edu/9780999034101-TRADE" id="OWAd104a6ab-8d0a-a068-c0e3-2b25e85fac8b" title="https://shop.arizona.edu/9780999034101-TRADE">https://shop.arizona.edu/9780999034101-TRADE</a></p>

<p><em>To become a certified Master Gardener, additional requirements apply.</em></p>

<p><strong>Please complete the form at the link below to register for the 2026 Mohave County Master Gardener Training Course.</strong></p>
<br />Location:<br /> Mohave County Extension Office<br />101 E. Beale St.<br />Kingman, AZ 86401
PRIORITY:3
TRANSP:TRANSPARENT
BEGIN:VALARM
TRIGGER:-PT5M
ACTION:DISPLAY
DESCRIPTION:Reminder
END:VALARM
END:VEVENT
END:VCALENDAR
