BEGIN:VCALENDAR
VERSION:2.0
CALSCALE:GREGORIAN
METHOD:PUBLISH
PRODID://CCCC//1401468
BEGIN:VEVENT
DTSTAMP:20260424T110745
VTIMEZONE:America/Los_Angeles
DTSTART:20260123T020000Z
DTEND:20260123T040000Z
UID:1401468
SUMMARY:Quarterly Members Meeting
LOCATION:Rocco's Bar & Grill, 546 Market St., Colusa, CA, 95932
DESCRIPTION:Quarterly Members Meeting\n\n01/22/26 06:00 PM PST\n - 01/22/26 08:00 PM PST\Description:\nJoin us for the first, all-members, quarterly meeting.  2026 is bringing many new enhancements to your memberships and we are looking forward to sharing them with you.  Quarterly membership meetings are one of the new programs.  We'll also be showing the template for the new website under construction, new phone apps and how to integrate and adopt the newest technology for businesses in Colusa County.  Rocco's is providing a $25 buffet dinner beginning at 6:00.  The meeting will gavel to order aat 6:30.\Location:\nRocco's Bar & Grill\n546 Market St.\nColusa, CA 95932
X-ALT-DESC;FMTTYPE=text/html:Quarterly Members Meeting<br /><br />01/22/26 06:00 PM PST - 01/22/26 08:00 PM PST<br />Description:<br />Join us for the first, all-members, quarterly meeting. &nbsp;2026 is bringing many new enhancements to your memberships and we are looking forward to sharing them with you. &nbsp;Quarterly membership meetings are one of the new programs. &nbsp;We'll also be showing the template for the new website under construction, new phone apps and how to integrate and adopt the newest technology for businesses in Colusa County. &nbsp;Rocco's is providing a $25 buffet dinner beginning at 6:00. &nbsp;The meeting will gavel to order aat 6:30.<br />Location:<br />Rocco's Bar & Grill<br />546 Market St.<br />Colusa, CA 95932
PRIORITY:3
TRANSP:TRANSPARENT
BEGIN:VALARM
TRIGGER:-PT5M
ACTION:DISPLAY
DESCRIPTION:Reminder
END:VALARM
END:VEVENT
END:VCALENDAR
