BEGIN:VCALENDAR
VERSION:2.0
CALSCALE:GREGORIAN
METHOD:PUBLISH
PRODID://CCCC//1401524
BEGIN:VEVENT
DTSTAMP:20260424T112912
VTIMEZONE:America/Los_Angeles
DTSTART:20260108T163000Z
DTEND:20260129T183000Z
UID:1401524
SUMMARY:Financial Management Series for Existing Businesses - 4 Weeks Series
LOCATION:Butte College SBDC, 2480 Notre Dame Blvd., Chico, CA, 95928
DESCRIPTION:Financial Management Series for Existing Businesses - 4 Weeks Series\n\n01/08/26 08:30 AM PST\n - 01/29/26 10:30 AM PST\Description:\nThis 4-weeks series is designed to teach you how to utilize your financial statements to better manage and understand your business operations, cash flow, and profitability. Focus includes: interpreting and understanding your financial statements (Profit & Loss, Balance Sheet) hands-on exercise and case study; identifying cash flow cycle and how it impacts your business; learning how to calculate and use financial ratios to troubleshoot fiscal dangers, and analyzing trends to improve business performance; using financial tools to make good business decisions for effective spending and break-even analysis; knowing how to think critically when looking at pricing and costs; and developing forecasts and budgetary tools and techniques to improve profit.  You can access free individual one-on-one business consulting simultaneously, or after the series.\n \Details:\nDate: Thursdays, January 8th, 15th 22nd, and 29th 2026\nTime: 8:30am – 10:30am\nLocation: Butte College SBDC, 2480 Notre Dame Blvd., Chico\nCost: Free\nRegister Here:  https://www.buttecollegesbdc.com/events/\n \Location:\nButte College SBDC\n2480 Notre Dame Blvd.\nChico, CA 95928
X-ALT-DESC;FMTTYPE=text/html:Financial Management Series for Existing Businesses - 4 Weeks Series<br /><br />01/08/26 08:30 AM PST - 01/29/26 10:30 AM PST<br />Description:<br />This 4-weeks series is designed to teach you how to utilize your financial statements to better manage and understand your business operations, cash flow, and profitability. Focus includes: interpreting and understanding your financial statements (Profit &amp; Loss, Balance Sheet) hands-on exercise and case study; identifying cash flow cycle and how it impacts your business; learning how to calculate and use financial ratios to troubleshoot fiscal dangers, and analyzing trends to improve business performance; using financial tools to make good business decisions for effective spending and break-even analysis; knowing how to think critically when looking at pricing and costs; and developing forecasts and budgetary tools and techniques to improve profit.&nbsp; You can access free individual one-on-one business consulting&nbsp;simultaneously, or after the series.<br />
&nbsp;<br />Details:<br />Date: Thursdays, January 8th, 15th 22nd, and 29th 2026<br />
Time: 8:30am &ndash; 10:30am<br />
Location: Butte College SBDC, 2480 Notre Dame Blvd., Chico<br />
Cost: Free<br />
Register Here: &nbsp;https://www.buttecollegesbdc.com/events/<br />
&nbsp;<br />Location:<br />Butte College SBDC<br />2480 Notre Dame Blvd.<br />Chico, CA 95928
PRIORITY:3
TRANSP:TRANSPARENT
BEGIN:VALARM
TRIGGER:-PT5M
ACTION:DISPLAY
DESCRIPTION:Reminder
END:VALARM
END:VEVENT
END:VCALENDAR
