BEGIN:VCALENDAR
VERSION:2.0
CALSCALE:GREGORIAN
METHOD:PUBLISH
PRODID://CCCC//1401651
BEGIN:VEVENT
DTSTAMP:20260424T110744
VTIMEZONE:America/Los_Angeles
DTSTART:20260115T200000Z
DTEND:20260115T213000Z
UID:1401651
SUMMARY:Third Thursday
LOCATION:Roccos Bar & Grill, 546 CA-45, Colusa, CA, 95932
DESCRIPTION:Third Thursday\n\n01/15/26 12:00 PM PST\n - 01/15/26 01:30 PM PST\Description:\nJoin us for our Third Thursday Luncheon featuring guest speaker Angelica Villar, Account Manager at Atlas. Angelica will share insights on her role at Atlas, industry trends, and valuable takeaways for local businesses. Enjoy lunch, networking, and an engaging presentation with fellow community and business leaders.\Location:\nRoccos Bar & Grill\n546 CA-45\nColusa, CA 95932
X-ALT-DESC;FMTTYPE=text/html:Third Thursday<br /><br />01/15/26 12:00 PM PST - 01/15/26 01:30 PM PST<br />Description:<br />Join us for our Third Thursday Luncheon featuring guest speaker Angelica Villar, Account Manager at Atlas. Angelica will share insights on her role at Atlas, industry trends, and valuable takeaways for local businesses. Enjoy lunch, networking, and an engaging presentation with fellow community and business leaders.<br />Location:<br />Roccos Bar & Grill<br />546 CA-45<br />Colusa, CA 95932
PRIORITY:3
TRANSP:TRANSPARENT
BEGIN:VALARM
TRIGGER:-PT5M
ACTION:DISPLAY
DESCRIPTION:Reminder
END:VALARM
END:VEVENT
END:VCALENDAR
