BEGIN:VCALENDAR
VERSION:2.0
CALSCALE:GREGORIAN
METHOD:PUBLISH
PRODID://WEHO//1401655
BEGIN:VEVENT
DTSTAMP:20260424T112903
VTIMEZONE:America/Los_Angeles
DTSTART:20260129T020000Z
DTEND:20260129T040000Z
UID:1401655
SUMMARY:Mix and Mingle
LOCATION:, West Hollywood, CA, 90069
DESCRIPTION:Mix and Mingle\n\n01/28/26 06:00 PM PST\n - 01/28/26 08:00 PM PST\Description:\nMix & Mingle, January, 28th \nTime: 6:00 PM - 8:00 PM\n\nCome for the nosh, and stay for the connections!\n\nRegistration is required.\n\nMembers in good standing, who pre-register online, attend for free. Day of registration (which includes walk-in) will incur a $10 fee.\n\nNon-Members are allowed to attend up to three mixers before being required to join the Chamber to continue attending this popular networking event. Non-Members pre-registration online fee is $20; day of registration, which includes walk-in, is $30. Pre-registration fee must be paid prior to the day of the event.\n\Location:\n\n\nWest Hollywood, CA 90069
X-ALT-DESC;FMTTYPE=text/html:Mix and Mingle<br /><br />01/28/26 06:00 PM PST - 01/28/26 08:00 PM PST<br />Description:<br /><p>Mix &amp; Mingle, January, 28th<strong>&nbsp;<br />
Time: 6:00 PM&nbsp;- 8:00 PM</strong><br />
<br />
Come&nbsp;for the nosh, and stay for the connections!</p>

<p>Registration is required.</p>

<p>Members in good standing, who pre-register online, attend for free. Day of registration (which includes&nbsp;walk-in) will incur a $10 fee.</p>

<p>Non-Members are allowed to attend up to three mixers before being required to join the Chamber to continue attending this popular networking event. Non-Members pre-registration online fee is $20; day of registration, which includes walk-in, is $30. Pre-registration fee must be paid prior to the day of the event.</p>
<br />Location:<br /><br /><br />West Hollywood, CA 90069
PRIORITY:3
TRANSP:TRANSPARENT
BEGIN:VALARM
TRIGGER:-PT5M
ACTION:DISPLAY
DESCRIPTION:Reminder
END:VALARM
END:VEVENT
END:VCALENDAR
