BEGIN:VCALENDAR
VERSION:2.0
CALSCALE:GREGORIAN
METHOD:PUBLISH
PRODID://JCOC//1401760
BEGIN:VEVENT
DTSTAMP:20260424T123214
VTIMEZONE:America/Chicago
DTSTART:20260213T150000Z
DTEND:20260215T050000Z
UID:1401760
SUMMARY:Jenks Trochella Show Choir Invitational 
LOCATION:Jenks Public High School PAC, 398 West F St, Jenks, OK, 74037
DESCRIPTION:Jenks Trochella Show Choir Invitational \n\n02/13/26 09:00 AM CST\n - 02/14/26 11:00 PM CST\Description:\nFriday February 13, 2026:\n14 area Middle School groups\n6:00pm - 11:00pm\n\nSaturday February 14,2026:\n17 area High School groups\n9:00am - 11:00pm\Details:\nEvent will be held in the Jenks High School PAC located at the northwest side of campus. There will be admission sold in the front lobby.  Cafeteria will be open serving food and drinks.  There will also be food trucks available all day.  \Location:\nJenks Public High School PAC\n398 West F St\nJenks, OK 74037
X-ALT-DESC;FMTTYPE=text/html:Jenks Trochella Show Choir Invitational <br /><br />02/13/26 09:00 AM CST - 02/14/26 11:00 PM CST<br />Description:<br />Friday February 13, 2026:<br />
14 area Middle School groups<br />
6:00pm - 11:00pm<br />
<br />
Saturday February 14,2026:<br />
17 area High School groups<br />
9:00am - 11:00pm<br />Details:<br />Event will be held in the Jenks High School PAC located at the northwest side of campus.&nbsp;There will be admission sold in the front lobby. &nbsp;Cafeteria will be open serving food and drinks. &nbsp;There will also be food trucks available all day. &nbsp;<br />Location:<br />Jenks Public High School PAC<br />398 West F St<br />Jenks, OK 74037
PRIORITY:3
TRANSP:TRANSPARENT
BEGIN:VALARM
TRIGGER:-PT5M
ACTION:DISPLAY
DESCRIPTION:Reminder
END:VALARM
END:VEVENT
END:VCALENDAR
