BEGIN:VCALENDAR
VERSION:2.0
CALSCALE:GREGORIAN
METHOD:PUBLISH
PRODID://OCON//1401829
BEGIN:VEVENT
DTSTAMP:20260424T115513
VTIMEZONE:America/New_York
DTSTART:20260204T131500Z
DTEND:20260204T141500Z
UID:1401829
SUMMARY:PowerHour | Arch Legacy Firm
LOCATION:Oconee Chamber of Commerce, 55 Nancy Drive, Watkinsville, GA, 30677
DESCRIPTION:PowerHour | Arch Legacy Firm\n\n02/04/26 08:15 AM EST\n - 02/04/26 09:15 AM EST\Description:\nJoin us for a fast paced, fun, morning networking session held in the Oconee Chamber's lower-level conference room. \n\Location:\nOconee Chamber of Commerce\n55 Nancy Drive\nWatkinsville, GA 30677
X-ALT-DESC;FMTTYPE=text/html:PowerHour | Arch Legacy Firm<br /><br />02/04/26 08:15 AM EST - 02/04/26 09:15 AM EST<br />Description:<br /><p>Join us for a fast paced, fun, morning networking session held in the Oconee Chamber's lower-level conference room.&nbsp;</p>
<br />Location:<br />Oconee Chamber of Commerce<br />55 Nancy Drive<br />Watkinsville, GA 30677
PRIORITY:3
TRANSP:TRANSPARENT
BEGIN:VALARM
TRIGGER:-PT5M
ACTION:DISPLAY
DESCRIPTION:Reminder
END:VALARM
END:VEVENT
END:VCALENDAR
