BEGIN:VCALENDAR
VERSION:2.0
CALSCALE:GREGORIAN
METHOD:PUBLISH
PRODID://KACC//1401833
BEGIN:VEVENT
DTSTAMP:20260422T065634
VTIMEZONE:America/Chicago
DTSTART:20260121T143000Z
DTEND:20260227T153000Z
UID:1401833
SUMMARY:FREE for the community: YMCA Walking Program/Classes
LOCATION:Adair County Family YMCA , Â  1708 S Jamison St., Kirksville, MO, 63501
DESCRIPTION:FREE for the community: YMCA Walking Program/Classes\n\n01/21/26 08:30 AM CST\n - 02/27/26 09:30 AM CST\Description:\nFREE WALK WITH EASE CLASS\n\nWho: Y Members AND Non-Members\n     [Non-members – just bring your driver’s license]\n\nWhat: FREE Walking Program + FREE Walking Book\n\nWhen: MWF’s starting Weds Jan 21, 2026\n  to Friday February 27, 2026\n        8:30-9:30 am\n       If severe weather occurs, please call the Y (660 785 7256) to check if class will be held/Y will be open\n\nWhere: Indoors at the Adair County Family YMCA\n        1708 S Jamison St., Kirksville, MO\n\nWhy: Walk for better health, improved fitness, less pain\n \Details:\nFREE WALK WITH EASE CLASS\n\nWho: Y Members AND Non-Members\n     [Non-members – just bring your driver’s license]\n\nWhat: FREE Walking Program + FREE Walking Book\n\nWhen: MWF’s starting Weds Jan 21, 2026\n  to Friday February 27, 2026\n        8:30-9:30 am\n       If severe weather occurs, please call the Y (660 785 7256) to check if class will be held/Y will be open\n\nWhere: Indoors at the Adair County Family YMCA\n        1708 S Jamison St., Kirksville, MO\n\nWhy: Walk for better health, improved fitness, less pain\Location:\nAdair County Family YMCA \nÂ  1708 S Jamison St.\nKirksville, MO 63501
X-ALT-DESC;FMTTYPE=text/html:FREE for the community: YMCA Walking Program/Classes<br /><br />01/21/26 08:30 AM CST - 02/27/26 09:30 AM CST<br />Description:<br />FREE WALK WITH EASE CLASS<br />
<br />
Who: Y Members AND Non-Members<br />
&nbsp; &nbsp;&nbsp; [Non-members &ndash; just bring your driver&rsquo;s license]<br />
<br />
What: FREE Walking Program + FREE Walking Book<br />
<br />
When: MWF&rsquo;s starting Weds Jan 21, 2026<br />
&nbsp; to Friday February 27, 2026<br />
&nbsp; &nbsp;&nbsp;&nbsp; &nbsp; 8:30-9:30 am<br />
&nbsp;&nbsp;&nbsp;&nbsp;&nbsp;&nbsp; If severe weather occurs, please call the Y (660 785 7256) to check if class will be held/Y will be open<br />
<br />
Where: <u>Indoors</u> at the Adair County Family YMCA<br />
&nbsp; &nbsp;&nbsp;&nbsp;&nbsp;&nbsp; 1708 S Jamison St., Kirksville, MO<br />
<br />
Why: Walk for better health, improved fitness, less pain<br />
&nbsp;<br />Details:<br />FREE WALK WITH EASE CLASS<br />
<br />
Who: Y Members AND Non-Members<br />
&nbsp; &nbsp;&nbsp; [Non-members &ndash; just bring your driver&rsquo;s license]<br />
<br />
What: FREE Walking Program + FREE Walking Book<br />
<br />
When: MWF&rsquo;s starting Weds Jan 21, 2026<br />
&nbsp; to Friday February 27, 2026<br />
&nbsp; &nbsp;&nbsp;&nbsp; &nbsp; 8:30-9:30 am<br />
&nbsp;&nbsp;&nbsp;&nbsp;&nbsp;&nbsp; If severe weather occurs, please call the Y (660 785 7256) to check if class will be held/Y will be open<br />
<br />
Where: <u>Indoors</u> at the Adair County Family YMCA<br />
&nbsp; &nbsp;&nbsp;&nbsp;&nbsp;&nbsp; 1708 S Jamison St., Kirksville, MO<br />
<br />
Why: Walk for better health, improved fitness, less pain<br />Location:<br />Adair County Family YMCA <br />Â  1708 S Jamison St.<br />Kirksville, MO 63501
PRIORITY:3
TRANSP:TRANSPARENT
BEGIN:VALARM
TRIGGER:-PT5M
ACTION:DISPLAY
DESCRIPTION:Reminder
END:VALARM
END:VEVENT
END:VCALENDAR
