BEGIN:VCALENDAR
VERSION:2.0
CALSCALE:GREGORIAN
METHOD:PUBLISH
PRODID://CARR//1401847
BEGIN:VEVENT
DTSTAMP:20260421T044138
VTIMEZONE:America/Chicago
DTSTART:20260109T140000Z
DTEND:20260109T150000Z
UID:1401847
SUMMARY:Chamber Coffee: Caring Hearts of West Central Iowa
LOCATION:Caring Hearts of West Central Iowa, 508 N Court St, Suite 2, Carroll, IA, 51401
DESCRIPTION:Chamber Coffee: Caring Hearts of West Central Iowa\n\n01/09/26 08:00 AM CST\n - 01/09/26 09:00 AM CST\Description:\nPlease join us from 8-9 a.m. for Chamber Coffee at Caring Hearts of West Central Iowa at 508 N Court St, Suite 2 in Carroll.\Location:\nCaring Hearts of West Central Iowa\n508 N Court St, Suite 2\nCarroll, IA 51401
X-ALT-DESC;FMTTYPE=text/html:Chamber Coffee: Caring Hearts of West Central Iowa<br /><br />01/09/26 08:00 AM CST - 01/09/26 09:00 AM CST<br />Description:<br />Please join us from 8-9 a.m. for Chamber Coffee at Caring Hearts of West Central Iowa at 508 N Court St, Suite 2 in Carroll.<br />Location:<br />Caring Hearts of West Central Iowa<br />508 N Court St, Suite 2<br />Carroll, IA 51401
PRIORITY:3
TRANSP:TRANSPARENT
BEGIN:VALARM
TRIGGER:-PT5M
ACTION:DISPLAY
DESCRIPTION:Reminder
END:VALARM
END:VEVENT
END:VCALENDAR
