BEGIN:VCALENDAR
VERSION:2.0
CALSCALE:GREGORIAN
METHOD:PUBLISH
PRODID://TSCC//1402189
BEGIN:VEVENT
DTSTAMP:20260424T134135
VTIMEZONE:America/Denver
DTSTART:20260113T184500Z
DTEND:20260113T200000Z
UID:1402189
SUMMARY:January Noon Networking
LOCATION:Springville Civic Center - Multipurpose Room, 110 S Main St, Springville, UT, 84663
DESCRIPTION:January Noon Networking\n\n01/13/26 11:45 AM MST\n - 01/13/26 01:00 PM MST\Description:\nTBA\Location:\nSpringville Civic Center - Multipurpose Room\n110 S Main St\nSpringville, UT 84663
X-ALT-DESC;FMTTYPE=text/html:January Noon Networking<br /><br />01/13/26 11:45 AM MST - 01/13/26 01:00 PM MST<br />Description:<br />TBA<br />Location:<br />Springville Civic Center - Multipurpose Room<br />110 S Main St<br />Springville, UT 84663
PRIORITY:3
TRANSP:TRANSPARENT
BEGIN:VALARM
TRIGGER:-PT5M
ACTION:DISPLAY
DESCRIPTION:Reminder
END:VALARM
END:VEVENT
END:VCALENDAR
