BEGIN:VCALENDAR
VERSION:2.0
CALSCALE:GREGORIAN
METHOD:PUBLISH
PRODID://PLYC//1403598
BEGIN:VEVENT
DTSTAMP:20260424T095116
VTIMEZONE:America/New_York
DTSTART:20260205T190000Z
DTEND:20260205T201500Z
UID:1403598
SUMMARY:Grief Support Group
LOCATION:Autumn Trace, 2560 West Lake Ave., Plymouth, IN, 46563
DESCRIPTION:Grief Support Group\n\n02/05/26 02:00 PM EST\n - 02/05/26 03:15 PM EST\Description:\nGreif Support Group- Free and open to the public\nOffered by Autumn Trace in Collaboration with Heart to Heart Hospice. We come together, in a safe space where you can be connected with others having gone through similar experiences. We will share coping strategies and offer support and education that can help manage the grief process. Light refreshments will be available. \Details:\nGreif Support Group- Free and open to the public\nOffered by Autumn Trace in Collaboration with Heart to Heart Hospice. We come together, in a safe space where you can be connected with others having gone through similar experiences. We will share coping strategies and offer support and education that can help manage the grief process. Light refreshments will be available. \Location:\nAutumn Trace\n2560 West Lake Ave.\nPlymouth, IN 46563
X-ALT-DESC;FMTTYPE=text/html:Grief Support Group<br /><br />02/05/26 02:00 PM EST - 02/05/26 03:15 PM EST<br />Description:<br />Greif Support Group- Free and open to the public<br />
Offered by Autumn Trace in Collaboration with Heart to Heart Hospice. We come together, in a safe space where you can be connected with others having gone through similar experiences. We will share coping strategies and offer support and education that can help manage the grief process. Light refreshments will be available.&nbsp;<br />Details:<br />Greif Support Group- Free and open to the public<br />
Offered by Autumn Trace in Collaboration with Heart to Heart Hospice. We come together, in a safe space where you can be connected with others having gone through similar experiences. We will share coping strategies and offer support and education that can help manage the grief process. Light refreshments will be available.&nbsp;<br />Location:<br />Autumn Trace<br />2560 West Lake Ave.<br />Plymouth, IN 46563
PRIORITY:3
TRANSP:TRANSPARENT
BEGIN:VALARM
TRIGGER:-PT5M
ACTION:DISPLAY
DESCRIPTION:Reminder
END:VALARM
END:VEVENT
END:VCALENDAR
