BEGIN:VCALENDAR
VERSION:2.0
CALSCALE:GREGORIAN
METHOD:PUBLISH
PRODID://PLYC//1403704
BEGIN:VEVENT
DTSTAMP:20260424T095104
VTIMEZONE:America/New_York
DTSTART:20260211T180000Z
DTEND:20260211T190000Z
UID:1403704
SUMMARY:ChatRX Presentation with Dr. Tod Stillson
LOCATION:Autumn Trace, 2560 West Lake Ave., Plymouth, IN, 46563
DESCRIPTION:ChatRX Presentation with Dr. Tod Stillson\n\n02/11/26 01:00 PM EST\n - 02/11/26 02:00 PM EST\Description:\nJoin us for a lively presentation about ChatRX, On-Demand Telehealth for Common Infections. Available 24/7.\n\nCare When You Need It, Without the Waiting Room\n\nCome & learn all about ChatRX & get your questions answered with the doctor himself.\n\Details:\nJoin us for a lively presentation about ChatRX, On-Demand Telehealth for Common Infections. Available 24/7.\n\nCare When You Need It, Without the Waiting Room\n\nCome & learn all about ChatRX & get your questions answered with the doctor himself.\n\Location:\nAutumn Trace\n2560 West Lake Ave.\nPlymouth, IN 46563
X-ALT-DESC;FMTTYPE=text/html:ChatRX Presentation with Dr. Tod Stillson<br /><br />02/11/26 01:00 PM EST - 02/11/26 02:00 PM EST<br />Description:<br /><p>Join us for a lively presentation about ChatRX, On-Demand Telehealth for Common Infections. Available 24/7.</p>

<p>Care When You Need It, Without the Waiting Room</p>

<p>Come &amp; learn all about ChatRX &amp; get your questions answered with the doctor himself.</p>
<br />Details:<br /><p>Join us for a lively presentation about ChatRX, On-Demand Telehealth for Common Infections. Available 24/7.</p>

<p>Care When You Need It, Without the Waiting Room</p>

<p>Come &amp; learn all about ChatRX &amp; get your questions answered with the doctor himself.</p>
<br />Location:<br />Autumn Trace<br />2560 West Lake Ave.<br />Plymouth, IN 46563
PRIORITY:3
TRANSP:TRANSPARENT
BEGIN:VALARM
TRIGGER:-PT5M
ACTION:DISPLAY
DESCRIPTION:Reminder
END:VALARM
END:VEVENT
END:VCALENDAR
