BEGIN:VCALENDAR
VERSION:2.0
CALSCALE:GREGORIAN
METHOD:PUBLISH
PRODID://KING//1404901
BEGIN:VEVENT
DTSTAMP:20260422T092919
VTIMEZONE:America/Denver
DTSTART:20260214T160000Z
DTEND:20260214T210000Z
UID:1404901
SUMMARY:Classic Car Show
LOCATION:El Garces , 950 Front St., Needles, CA
DESCRIPTION:Classic Car Show\n\n02/14/26 09:00 AM MST\n - 02/14/26 02:00 PM MST\Description:\nClassic Car Show\nDate: Saturday, February 14, 2026\nTime: 9:00 AM – 2:00 PM (Registration begins at 7:00 AM)\nLocation: El Garces, 950 Front Street, Needles, CA\n\nThis classic car show is open to pre-1975 vehicles. Entry is $20 per vehicle, payable by cash, check, or Zelle. The event will feature raffle prizes, a 50/50 raffle, and awards including Best in Show, Under Construction, Rat Rod, and People’s Choice.\n\nFor more information, contact Lernigan at 760-221-3211.\n\Location:\nEl Garces \n950 Front St.\nNeedles, CA
X-ALT-DESC;FMTTYPE=text/html:Classic Car Show<br /><br />02/14/26 09:00 AM MST - 02/14/26 02:00 PM MST<br />Description:<br /><p data-end="368" data-start="186"><strong data-end="206" data-start="186">Classic Car Show</strong><br data-end="209" data-start="206" />
<strong data-end="218" data-start="209">Date:</strong> Saturday, February 14, 2026<br data-end="249" data-start="246" />
<strong data-end="258" data-start="249">Time:</strong> 9:00 AM &ndash; 2:00 PM (Registration begins at 7:00 AM)<br data-end="312" data-start="309" />
<strong data-end="325" data-start="312">Location:</strong> El Garces, 950 Front Street, Needles, CA</p>

<p data-end="654" data-start="370">This classic car show is open to <strong data-end="424" data-start="403">pre-1975 vehicles</strong>. Entry is <strong data-end="454" data-start="435">$20 per vehicle</strong>, payable by cash, check, or Zelle. The event will feature <strong data-end="530" data-start="513">raffle prizes</strong>, a <strong data-end="550" data-start="534">50/50 raffle</strong>, and awards including <strong data-end="589" data-start="573">Best in Show</strong>, <strong data-end="613" data-start="591">Under Construction</strong>, <strong data-end="626" data-start="615">Rat Rod</strong>, and <strong data-end="651" data-start="632">People&rsquo;s Choice</strong>.</p>

<p data-end="715" data-start="656">For more information, contact <strong data-end="714" data-start="686">Lernigan at 760-221-3211</strong>.</p>
<br />Location:<br />El Garces <br />950 Front St.<br />Needles, CA 
PRIORITY:3
TRANSP:TRANSPARENT
BEGIN:VALARM
TRIGGER:-PT5M
ACTION:DISPLAY
DESCRIPTION:Reminder
END:VALARM
END:VEVENT
END:VCALENDAR
