BEGIN:VCALENDAR
VERSION:2.0
CALSCALE:GREGORIAN
METHOD:PUBLISH
PRODID://PLYC//1405037
BEGIN:VEVENT
DTSTAMP:20260424T110757
VTIMEZONE:America/New_York
DTSTART:20260130T170000Z
DTEND:20260130T210000Z
UID:1405037
SUMMARY:Core U: Integrative Wellness Program
LOCATION:The Union, Wellness Boutique, 2159 N Oak Road, Plymouth, IN, 46563
DESCRIPTION:Core U: Integrative Wellness Program\n\n01/30/26 12:00 PM EST\n - 01/30/26 04:00 PM EST\Description:\nCore U: Nurturing holistic well-being through a guided journey in harmonizing Nutrition, Stress management, Movement, Lifestyle, and Community—The Five Keystones essential for optimal health.\Details:\nCore U: Nurturing holistic well-being through a guided journey in harmonizing Nutrition, Stress management, Movement, Lifestyle, and Community—The Five Keystones essential for optimal health.\Location:\nThe Union, Wellness Boutique\n2159 N Oak Road\nPlymouth, IN 46563
X-ALT-DESC;FMTTYPE=text/html:Core U: Integrative Wellness Program<br /><br />01/30/26 12:00 PM EST - 01/30/26 04:00 PM EST<br />Description:<br />Core U: Nurturing holistic well-being through a guided journey in harmonizing Nutrition, Stress management, Movement, Lifestyle, and Community&mdash;The Five Keystones essential for optimal health.<br />Details:<br />Core U: Nurturing holistic well-being through a guided journey in harmonizing Nutrition, Stress management, Movement, Lifestyle, and Community&mdash;The Five Keystones essential for optimal health.<br />Location:<br />The Union, Wellness Boutique<br />2159 N Oak Road<br />Plymouth, IN 46563
PRIORITY:3
TRANSP:TRANSPARENT
BEGIN:VALARM
TRIGGER:-PT5M
ACTION:DISPLAY
DESCRIPTION:Reminder
END:VALARM
END:VEVENT
END:VCALENDAR
