BEGIN:VCALENDAR
VERSION:2.0
CALSCALE:GREGORIAN
METHOD:PUBLISH
PRODID://OCON//1405113
BEGIN:VEVENT
DTSTAMP:20260424T115520
VTIMEZONE:America/New_York
DTSTART:20260219T130000Z
DTEND:20260219T143000Z
UID:1405113
SUMMARY:STAR Student Breakfast
LOCATION:First United Methodist Church, 1331 New High Shoals Road, Watkinsville, GA, 30677
DESCRIPTION:STAR Student Breakfast\n\n02/19/26 08:00 AM EST\n - 02/19/26 09:30 AM EST\Description:\nLets celebrate Oconee County's highest-achieving high school seniors and the teachers most instrumental in their academic development on Thursday, February 19th at 8:00 a.m.\Location:\nFirst United Methodist Church\n1331 New High Shoals Road\nWatkinsville, GA 30677
X-ALT-DESC;FMTTYPE=text/html:STAR Student Breakfast<br /><br />02/19/26 08:00 AM EST - 02/19/26 09:30 AM EST<br />Description:<br />Lets celebrate Oconee County's highest-achieving high school seniors and the teachers most instrumental in their academic development on Thursday, February 19th at 8:00 a.m.<br />Location:<br />First United Methodist Church<br />1331 New High Shoals Road<br />Watkinsville, GA 30677
PRIORITY:3
TRANSP:TRANSPARENT
BEGIN:VALARM
TRIGGER:-PT5M
ACTION:DISPLAY
DESCRIPTION:Reminder
END:VALARM
END:VEVENT
END:VCALENDAR
