BEGIN:VCALENDAR
VERSION:2.0
CALSCALE:GREGORIAN
METHOD:PUBLISH
PRODID://OCON//1405114
BEGIN:VEVENT
DTSTAMP:20260424T115520
VTIMEZONE:America/New_York
DTSTART:20260219T190000Z
DTEND:20260219T200000Z
UID:1405114
SUMMARY:Ribbon Cutting | Classic Swing Golf Lounge
LOCATION:Classic Swing Golf Lounge, 8a School Street, Watkinsville, GA, 30677
DESCRIPTION:Ribbon Cutting | Classic Swing Golf Lounge\n\n02/19/26 02:00 PM EST\n - 02/19/26 03:00 PM EST\Description:\nJoin us and the Athens Area Chamber of Commerce for a joint Ribbon Cutting celebration at Classic Swing Golf Lounge. \Location:\nClassic Swing Golf Lounge\n8a School Street\nWatkinsville, GA 30677
X-ALT-DESC;FMTTYPE=text/html:Ribbon Cutting | Classic Swing Golf Lounge<br /><br />02/19/26 02:00 PM EST - 02/19/26 03:00 PM EST<br />Description:<br />Join us and the Athens Area Chamber of Commerce for a joint Ribbon Cutting celebration at Classic Swing Golf Lounge.&nbsp;<br />Location:<br />Classic Swing Golf Lounge<br />8a School Street<br />Watkinsville, GA 30677
PRIORITY:3
TRANSP:TRANSPARENT
BEGIN:VALARM
TRIGGER:-PT5M
ACTION:DISPLAY
DESCRIPTION:Reminder
END:VALARM
END:VEVENT
END:VCALENDAR
