BEGIN:VCALENDAR
VERSION:2.0
CALSCALE:GREGORIAN
METHOD:PUBLISH
PRODID://JCOC//1405228
BEGIN:VEVENT
DTSTAMP:20260424T134134
VTIMEZONE:America/Chicago
DTSTART:20260115T150000Z
DTEND:20260115T160000Z
UID:1405228
SUMMARY:Morning Mingle
LOCATION:Jenks Chamber of Commerce, 161 S Riverfront Dr, Jenks, OK, 74037
DESCRIPTION:Morning Mingle\n\n01/15/26 09:00 AM CST\n - 01/15/26 10:00 AM CST\Description:\nSponsored by Oklahoma Natural Gas\n\nMorning Mingle is the Jenks Chamber's monthly networking event where members connect over coffee and breakfast.  Hosted at the Chamber office, this free event is a great way to build relationships, share ideas, and start your day with the Chamber community.  \n\nClick to View: Liability Waiver\Location:\nJenks Chamber of Commerce\n161 S Riverfront Dr\nJenks, OK 74037
X-ALT-DESC;FMTTYPE=text/html:Morning Mingle<br /><br />01/15/26 09:00 AM CST - 01/15/26 10:00 AM CST<br />Description:<br /><strong>Sponsored by Oklahoma Natural Gas</strong><br />
<br />
Morning Mingle is the Jenks Chamber's monthly networking event where members connect over coffee and breakfast.&nbsp; Hosted at the Chamber office, this free event is a great way to build relationships, share ideas, and start your day with the Chamber community.&nbsp;&nbsp;<br />
<br />
<strong>Click to View:&nbsp;<a href="https://www.dropbox.com/scl/fi/xh0okrwobjv6y4if070ca/jenks-chamber-of-commerce-liability-waiver.pdf?rlkey=wj6uvimc4q2zlk53to4b1rgxe&amp;st=72p7pdtm&amp;dl=0">Liability Waiver</a></strong><br />Location:<br />Jenks Chamber of Commerce<br />161 S Riverfront Dr<br />Jenks, OK 74037
PRIORITY:3
TRANSP:TRANSPARENT
BEGIN:VALARM
TRIGGER:-PT5M
ACTION:DISPLAY
DESCRIPTION:Reminder
END:VALARM
END:VEVENT
END:VCALENDAR
