BEGIN:VCALENDAR
VERSION:2.0
CALSCALE:GREGORIAN
METHOD:PUBLISH
PRODID://CCOR//1405282
BEGIN:VEVENT
DTSTAMP:20260424T095117
VTIMEZONE:America/Chicago
DTSTART:20260402T133000Z
DTEND:20260402T150000Z
UID:1405282
SUMMARY:It's Just Networking 2
LOCATION:La Quinta Inn & Suites, 11805 Lackland Road, St. Louis, MO, 63146
DESCRIPTION:It's Just Networking 2\n\n04/02/26 08:30 AM CST\n - 04/02/26 10:00 AM CST\Description:\nYou are invited to our It’s Just Networking 2 Meeting on Thursday, April 2nd\nOur networking groups are designed to bring business people together from\ndifferent industries to make connections, build your network, gain referrals. \n Meeting @ La Quinta Inn & Suites\n\Location:\nLa Quinta Inn & Suites\n11805 Lackland Road\nSt. Louis, MO 63146
X-ALT-DESC;FMTTYPE=text/html:It's Just Networking 2<br /><br />04/02/26 08:30 AM CST - 04/02/26 10:00 AM CST<br />Description:<br /><div style="text-align: center;">You are invited to our It&rsquo;s Just Networking 2 Meeting on Thursday, April 2nd<br />
Our networking groups are designed to bring business people together from<br />
different industries to make connections, build your network, gain referrals.&nbsp;<br />
&nbsp;Meeting @ La Quinta Inn &amp; Suites</div>
<br />Location:<br />La Quinta Inn & Suites<br />11805 Lackland Road<br />St. Louis, MO 63146
PRIORITY:3
TRANSP:TRANSPARENT
BEGIN:VALARM
TRIGGER:-PT5M
ACTION:DISPLAY
DESCRIPTION:Reminder
END:VALARM
END:VEVENT
END:VCALENDAR
