BEGIN:VCALENDAR
VERSION:2.0
CALSCALE:GREGORIAN
METHOD:PUBLISH
PRODID://COWC//1405468
BEGIN:VEVENT
DTSTAMP:20260425T204206
VTIMEZONE:America/Chicago
DTSTART:20260124T170000Z
DTEND:20260125T030000Z
UID:1405468
SUMMARY:North Pillar Brewing 2nd Anniversary - w/ Elysian Studio Spa
LOCATION:North Pillar Brewing, 212 E North St., Waukesha, WI, 53188
DESCRIPTION:North Pillar Brewing 2nd Anniversary - w/ Elysian Studio Spa\n\n01/24/26 11:00 AM CST\n - 01/24/26 09:00 PM CST\Description:\nNorth Pillar Brewing 2nd Anniversary including:\n- Four new beer releases\n- Live music @ 4pm by The Hey Fevers\n- Food from Double Dubs\n- Custom North Pillar pull tabs\n- Chair massage by Elysian Studio Spa\n- Pop-up art gallery by Celebrate Art\n...and more!\Details:\nOpen to the public & free to attend\Location:\nNorth Pillar Brewing\n212 E North St.\nWaukesha, WI 53188
X-ALT-DESC;FMTTYPE=text/html:North Pillar Brewing 2nd Anniversary - w/ Elysian Studio Spa<br /><br />01/24/26 11:00 AM CST - 01/24/26 09:00 PM CST<br />Description:<br />North Pillar Brewing 2nd Anniversary including:<br />
- Four new beer releases<br />
- Live music @ 4pm by The Hey Fevers<br />
- Food from Double Dubs<br />
- Custom North Pillar pull tabs<br />
- Chair massage by Elysian Studio Spa<br />
- Pop-up art gallery by Celebrate Art<br />
...and more!<br />Details:<br />Open to the public &amp; free to attend<br />Location:<br />North Pillar Brewing<br />212 E North St.<br />Waukesha, WI 53188
PRIORITY:3
TRANSP:TRANSPARENT
BEGIN:VALARM
TRIGGER:-PT5M
ACTION:DISPLAY
DESCRIPTION:Reminder
END:VALARM
END:VEVENT
END:VCALENDAR
