BEGIN:VCALENDAR
VERSION:2.0
CALSCALE:GREGORIAN
METHOD:PUBLISH
PRODID://JCOC//1405612
BEGIN:VEVENT
DTSTAMP:20260424T112911
VTIMEZONE:America/Chicago
DTSTART:20260609T213000Z
DTEND:20260609T233000Z
UID:1405612
SUMMARY:Legislative Elected Officials Reception 2026
LOCATION:Jenks Chamber of Commerce , 161 S. Riverfront Drive, Jenks, OK, 74037
DESCRIPTION:Legislative Elected Officials Reception 2026\n\n06/09/26 04:30 PM CST\n - 06/09/26 06:30 PM CST\Description:\nNetwork with elected officials representing Jenks and the surrounding community. \n\n\nClick to View: Liability Waiver\Location:\nJenks Chamber of Commerce \n161 S. Riverfront Drive\nJenks, OK 74037
X-ALT-DESC;FMTTYPE=text/html:Legislative Elected Officials Reception 2026<br /><br />06/09/26 04:30 PM CST - 06/09/26 06:30 PM CST<br />Description:<br />Network with elected officials representing Jenks and the surrounding community.&nbsp;<br />
<br />
<br />
<strong>Click to View:&nbsp;<a href="https://www.dropbox.com/scl/fi/xh0okrwobjv6y4if070ca/jenks-chamber-of-commerce-liability-waiver.pdf?rlkey=wj6uvimc4q2zlk53to4b1rgxe&amp;st=72p7pdtm&amp;dl=0">Liability Waiver</a></strong><br />Location:<br />Jenks Chamber of Commerce <br />161 S. Riverfront Drive<br />Jenks, OK 74037
PRIORITY:3
TRANSP:TRANSPARENT
BEGIN:VALARM
TRIGGER:-PT5M
ACTION:DISPLAY
DESCRIPTION:Reminder
END:VALARM
END:VEVENT
END:VCALENDAR
