BEGIN:VCALENDAR
VERSION:2.0
CALSCALE:GREGORIAN
METHOD:PUBLISH
PRODID://JCOC//1405632
BEGIN:VEVENT
DTSTAMP:20260424T134240
VTIMEZONE:America/Chicago
DTSTART:20260716T210000Z
DTEND:20260716T230000Z
UID:1405632
SUMMARY:Network Jenks
LOCATION:TBD
DESCRIPTION:Network Jenks\n\n07/16/26 04:00 PM CST\n - 07/16/26 06:00 PM CST\Description:\n Sponsored by Tedford Insurance\n\nNetwork Jenks After Hours is a monthly networking event where Chamber members can unwind, connect, and build relationships in a casual evening setting.  This is a fun and relaxed way to grow your network and stay engaged with the Jenks business community.\n\nClick to View: Liability Waiver\Location:\nTBD\n\n,
X-ALT-DESC;FMTTYPE=text/html:Network Jenks<br /><br />07/16/26 04:00 PM CST - 07/16/26 06:00 PM CST<br />Description:<br /><strong>&nbsp;Sponsored by Tedford Insurance</strong><br />
<br />
Network Jenks After Hours is a monthly networking event where Chamber members can unwind, connect, and build relationships in a casual evening setting.&nbsp; This is a fun and relaxed way to grow your network and stay engaged with the Jenks business community.<br />
<br />
<strong>Click to View:&nbsp;<a href="https://www.dropbox.com/scl/fi/xh0okrwobjv6y4if070ca/jenks-chamber-of-commerce-liability-waiver.pdf?rlkey=wj6uvimc4q2zlk53to4b1rgxe&amp;st=72p7pdtm&amp;dl=0">Liability Waiver</a></strong><br />Location:<br />TBD<br /><br />,  
PRIORITY:3
TRANSP:TRANSPARENT
BEGIN:VALARM
TRIGGER:-PT5M
ACTION:DISPLAY
DESCRIPTION:Reminder
END:VALARM
END:VEVENT
END:VCALENDAR
