BEGIN:VCALENDAR
VERSION:2.0
CALSCALE:GREGORIAN
METHOD:PUBLISH
PRODID://JCOC//1405640
BEGIN:VEVENT
DTSTAMP:20260424T150124
VTIMEZONE:America/Chicago
DTSTART:20260819T163000Z
DTEND:20260819T180000Z
UID:1405640
SUMMARY:Member Luncheon - August 2026
LOCATION:The Ranch, 10596 S. Elm Street, Jenks, OK, 74037
DESCRIPTION:Member Luncheon - August 2026\n\n08/19/26 11:30 AM CST\n - 08/19/26 01:00 PM CST\Description:\nMonthly member luncheons are the staple of the Jenks Chamber's annual calendar.  These meetings bring together the community to network and hear from top speakers.  \n\nDoors Open: 11:30AM\nProgram Starts: 12:00PM\n\nClick to View: Liability Waiver\Location:\nThe Ranch\n10596 S. Elm Street\nJenks, OK 74037
X-ALT-DESC;FMTTYPE=text/html:Member Luncheon - August 2026<br /><br />08/19/26 11:30 AM CST - 08/19/26 01:00 PM CST<br />Description:<br />Monthly member luncheons are the staple of the Jenks Chamber's annual calendar.&nbsp; These meetings bring together the community to network and hear from top speakers.&nbsp;&nbsp;<br />
<br />
Doors Open: 11:30AM<br />
Program Starts: 12:00PM<br />
<br />
<strong>Click to View:&nbsp;<a href="https://www.dropbox.com/scl/fi/xh0okrwobjv6y4if070ca/jenks-chamber-of-commerce-liability-waiver.pdf?rlkey=wj6uvimc4q2zlk53to4b1rgxe&amp;st=72p7pdtm&amp;dl=0">Liability Waiver</a></strong><br />Location:<br />The Ranch<br />10596 S. Elm Street<br />Jenks, OK 74037
PRIORITY:3
TRANSP:TRANSPARENT
BEGIN:VALARM
TRIGGER:-PT5M
ACTION:DISPLAY
DESCRIPTION:Reminder
END:VALARM
END:VEVENT
END:VCALENDAR
