BEGIN:VCALENDAR
VERSION:2.0
CALSCALE:GREGORIAN
METHOD:PUBLISH
PRODID://JCOC//1405736
BEGIN:VEVENT
DTSTAMP:20260424T172735
VTIMEZONE:America/Chicago
DTSTART:20261118T173000Z
DTEND:20261118T190000Z
UID:1405736
SUMMARY:Member Luncheon: State of the Nation
LOCATION:The Ranch, 10596 S. Elm Street, Jenks, OK, 74037
DESCRIPTION:Member Luncheon: State of the Nation\n\n11/18/26 11:30 AM CST\n - 11/18/26 01:00 PM CST\Description:\nState of the Nation 2026\n\nClick to View: Liability Waiver\Location:\nThe Ranch\n10596 S. Elm Street\nJenks, OK 74037
X-ALT-DESC;FMTTYPE=text/html:Member Luncheon: State of the Nation<br /><br />11/18/26 11:30 AM CST - 11/18/26 01:00 PM CST<br />Description:<br />State of the Nation 2026<br />
<br />
<strong>Click to View:&nbsp;<a href="https://www.dropbox.com/scl/fi/xh0okrwobjv6y4if070ca/jenks-chamber-of-commerce-liability-waiver.pdf?rlkey=wj6uvimc4q2zlk53to4b1rgxe&amp;st=72p7pdtm&amp;dl=0">Liability Waiver</a></strong><br />Location:<br />The Ranch<br />10596 S. Elm Street<br />Jenks, OK 74037
PRIORITY:3
TRANSP:TRANSPARENT
BEGIN:VALARM
TRIGGER:-PT5M
ACTION:DISPLAY
DESCRIPTION:Reminder
END:VALARM
END:VEVENT
END:VCALENDAR
