BEGIN:VCALENDAR
VERSION:2.0
CALSCALE:GREGORIAN
METHOD:PUBLISH
PRODID://JCOC//1405744
BEGIN:VEVENT
DTSTAMP:20260424T160239
VTIMEZONE:America/Chicago
DTSTART:20261216T173000Z
DTEND:20261216T190000Z
UID:1405744
SUMMARY:Member Luncheon - December 2026
LOCATION:The Ranch, 10596 S. Elm Street, Jenks, OK, 74037
DESCRIPTION:Member Luncheon - December 2026\n\n12/16/26 11:30 AM CST\n - 12/16/26 01:00 PM CST\Description:\nJoin us for the Jenks Chamber December Luncheon on Wednesday, December 16, at 11:30 a.m. at The Ranch.\n\nDoors open at 11:30 for networking, with the program beginning at noon.\n\nJoin us as we celebrate local nonprofits and look ahead to an exciting 2027.\n\nClick to View: Liability Waiver\n\Details:\nNon-Profit Highlight\Location:\nThe Ranch\n10596 S. Elm Street\nJenks, OK 74037
X-ALT-DESC;FMTTYPE=text/html:Member Luncheon - December 2026<br /><br />12/16/26 11:30 AM CST - 12/16/26 01:00 PM CST<br />Description:<br /><p>Join us for the Jenks Chamber December Luncheon on Wednesday, December 16, at 11:30 a.m. at The Ranch.</p>

<p>Doors open at 11:30 for networking, with the program beginning at noon.</p>

<p>Join us as we celebrate local nonprofits and look ahead to an exciting 2027.<br />
<br />
<strong>Click to View:&nbsp;<a href="https://www.dropbox.com/scl/fi/xh0okrwobjv6y4if070ca/jenks-chamber-of-commerce-liability-waiver.pdf?rlkey=wj6uvimc4q2zlk53to4b1rgxe&amp;st=72p7pdtm&amp;dl=0">Liability Waiver</a></strong></p>
<br />Details:<br />Non-Profit Highlight<br />Location:<br />The Ranch<br />10596 S. Elm Street<br />Jenks, OK 74037
PRIORITY:3
TRANSP:TRANSPARENT
BEGIN:VALARM
TRIGGER:-PT5M
ACTION:DISPLAY
DESCRIPTION:Reminder
END:VALARM
END:VEVENT
END:VCALENDAR
