BEGIN:VCALENDAR
VERSION:2.0
CALSCALE:GREGORIAN
METHOD:PUBLISH
PRODID://JCOC//1405756
BEGIN:VEVENT
DTSTAMP:20260424T134811
VTIMEZONE:America/Chicago
DTSTART:20260129T200000Z
DTEND:20260129T210000Z
UID:1405756
SUMMARY:Ribbon Cutting: Empire Title & Closing
LOCATION:Empire Title & Closing, 116 S 1st St, Jenks, OK, 74037
DESCRIPTION:Ribbon Cutting: Empire Title & Closing\n\n01/29/26 02:00 PM CST\n - 01/29/26 03:00 PM CST\Description:\nEmpire Title & Closing offers an extensive list of services for all of your real estate closing needs and is happy to celebrate their new location opening in downtown Jenks!  Join us for a ribbon cutting on Thursday, January 29th at 2:00 to celebrate this terrific addition!\Location:\nEmpire Title & Closing\n116 S 1st St\nJenks, OK 74037
X-ALT-DESC;FMTTYPE=text/html:Ribbon Cutting: Empire Title & Closing<br /><br />01/29/26 02:00 PM CST - 01/29/26 03:00 PM CST<br />Description:<br />Empire Title &amp; Closing&nbsp;offers an extensive list of services for all of your real estate closing needs and is happy to celebrate their new location opening in downtown Jenks!&nbsp;&nbsp;Join us for a ribbon cutting on Thursday, January 29th at 2:00 to celebrate this terrific addition!<br />Location:<br />Empire Title & Closing<br />116 S 1st St<br />Jenks, OK 74037
PRIORITY:3
TRANSP:TRANSPARENT
BEGIN:VALARM
TRIGGER:-PT5M
ACTION:DISPLAY
DESCRIPTION:Reminder
END:VALARM
END:VEVENT
END:VCALENDAR
