BEGIN:VCALENDAR
VERSION:2.0
CALSCALE:GREGORIAN
METHOD:PUBLISH
PRODID://JCOC//1405776
BEGIN:VEVENT
DTSTAMP:20260424T160352
VTIMEZONE:America/Chicago
DTSTART:20260903T163000Z
DTEND:20260903T180000Z
UID:1405776
SUMMARY:Women in Business Luncheon
LOCATION:The Ranch, 10596 S. Elm Street, Jenks, OK, 74037
DESCRIPTION:Women in Business Luncheon\n\n09/03/26 11:30 AM CST\n - 09/03/26 01:00 PM CST\Description:\nSponsored by Tulsa Tech\n\nâ€‹The Jenks Chamber's Women in Business initiative provides networking, educational, and informational opportunities for attendees.  These quarterly events bring together women from across the region.  \n\n Click to View: Liability Waiver\Location:\nThe Ranch\n10596 S. Elm Street\nJenks, OK 74037
X-ALT-DESC;FMTTYPE=text/html:Women in Business Luncheon<br /><br />09/03/26 11:30 AM CST - 09/03/26 01:00 PM CST<br />Description:<br /><strong>Sponsored by Tulsa Tech</strong><br />
<br />
â€‹The Jenks Chamber's Women in Business initiative provides networking, educational, and informational opportunities for attendees.&nbsp; These quarterly events bring together women from across the region.&nbsp;&nbsp;<br />
<br />
&nbsp;<strong>Click to View:&nbsp;<a href="https://www.dropbox.com/scl/fi/xh0okrwobjv6y4if070ca/jenks-chamber-of-commerce-liability-waiver.pdf?rlkey=wj6uvimc4q2zlk53to4b1rgxe&amp;st=72p7pdtm&amp;dl=0">Liability Waiver</a></strong><br />Location:<br />The Ranch<br />10596 S. Elm Street<br />Jenks, OK 74037
PRIORITY:3
TRANSP:TRANSPARENT
BEGIN:VALARM
TRIGGER:-PT5M
ACTION:DISPLAY
DESCRIPTION:Reminder
END:VALARM
END:VEVENT
END:VCALENDAR
