BEGIN:VCALENDAR
VERSION:2.0
CALSCALE:GREGORIAN
METHOD:PUBLISH
PRODID://JCOC//1406393
BEGIN:VEVENT
DTSTAMP:20260424T134218
VTIMEZONE:America/Chicago
DTSTART:20260121T173000Z
DTEND:20260121T190000Z
UID:1406393
SUMMARY:State of Education - January Monthly Luncheon
LOCATION:The Ranch, 10596 S Elm St, Jenks, OK, 74037
DESCRIPTION:State of Education - January Monthly Luncheon\n\n01/21/26 11:30 AM CST\n - 01/21/26 01:00 PM CST\Description:\nSponsored by Oklahoma Central Credit Union, Brent Hagar State Farm Insurance, TulsaTech, and L.D. Kerns Contractors\n\nâ€‹11:00AM Doors Open\n11:30AM Welcome & Board Inauguration\n12:00PM - 1:00PM Program\n\nThe 2026 Jenks Chamber of Commerce Board of Directors will be sworn in at 11:30AM while the State of Education Luncheon featuring an update from Jenks Public Schools Superintendent Dr. Stacey Butterfield will immediately follow. \nDr. Stacey Butterfield became Superintendent of Jenks Public Schools in 2013 and oversees all operations in a district of 12,700 students and 1,700 staff members. For her outstanding leadership abilities and her dedication to creating opportunities for students, Dr. Butterfield was named the 2019 Oklahoma Superintendent of the Year by the Oklahoma Association of School Administrators. In 2020, the Jenks Chamber of Commerce presented Dr. Butterfield with its most prestigious honor, the Ed Gerchman Leadership Award.\n\nAfter starting her career in education as a first-grade teacher at Jenks East Elementary, Dr. Butterfield has served Jenks Public Schools as a Building Principal, Communications Director, Human Resources Supervisor, Assistant Superintendent, and Deputy Superintendent.\n\nLunch catered by Napa Flats Wood-Fired Kitchen.\n\nClick to View: Liability Waiver\n\n \n\Location:\nThe Ranch\n10596 S Elm St\nJenks, OK 74037
X-ALT-DESC;FMTTYPE=text/html:State of Education - January Monthly Luncheon<br /><br />01/21/26 11:30 AM CST - 01/21/26 01:00 PM CST<br />Description:<br /><strong>Sponsored by Oklahoma Central Credit Union, Brent Hagar State Farm Insurance, TulsaTech, and L.D. Kerns Contractors</strong><br />
<br />
â€‹11:00AM Doors Open<br />
11:30AM Welcome &amp; Board Inauguration<br />
12:00PM - 1:00PM Program<br />
<br />
The 2026 Jenks Chamber of Commerce Board of Directors will be sworn in at 11:30AM while the State of Education Luncheon&nbsp;featuring an update from Jenks Public Schools Superintendent Dr. Stacey Butterfield will immediately follow.&nbsp;
<p data-end="799" data-start="280">Dr. Stacey Butterfield became Superintendent of Jenks Public Schools in 2013 and oversees all operations in a district of 12,700 students and 1,700 staff members. For her outstanding leadership abilities and her dedication to creating opportunities for students, Dr. Butterfield was named the 2019 Oklahoma Superintendent of the Year by the Oklahoma Association of School Administrators. In 2020, the Jenks Chamber of Commerce presented Dr. Butterfield with its most prestigious honor, the Ed Gerchman Leadership Award.</p>

<p data-end="1069" data-start="801">After starting her career in education as a first-grade teacher at Jenks East Elementary, Dr. Butterfield has served Jenks Public Schools as a Building Principal, Communications Director, Human Resources Supervisor, Assistant Superintendent, and Deputy Superintendent.<br />
<br />
Lunch catered by Napa Flats Wood-Fired Kitchen.<br />
<br />
<strong>Click to View:&nbsp;<a href="https://www.dropbox.com/scl/fi/xh0okrwobjv6y4if070ca/jenks-chamber-of-commerce-liability-waiver.pdf?rlkey=wj6uvimc4q2zlk53to4b1rgxe&amp;st=72p7pdtm&amp;dl=0">Liability Waiver</a></strong></p>

<p data-end="1069" data-start="801">&nbsp;</p>
<br />Location:<br />The Ranch<br />10596 S Elm St<br />Jenks, OK 74037
PRIORITY:3
TRANSP:TRANSPARENT
BEGIN:VALARM
TRIGGER:-PT5M
ACTION:DISPLAY
DESCRIPTION:Reminder
END:VALARM
END:VEVENT
END:VCALENDAR
