BEGIN:VCALENDAR
VERSION:2.0
CALSCALE:GREGORIAN
METHOD:PUBLISH
PRODID://KING//1406745
BEGIN:VEVENT
DTSTAMP:20260422T104402
VTIMEZONE:America/Denver
DTSTART:20260131T150000Z
DTEND:20260201T000000Z
UID:1406745
SUMMARY:DePuy Auction
LOCATION:Mohave County Fairgrounds - Expo Building A, 2600 Fairgrounds Blvd, Kingman, AZ, 86401
DESCRIPTION:DePuy Auction\n\n01/31/26 08:00 AM MST\n - 01/31/26 05:00 PM MST\Location:\nMohave County Fairgrounds - Expo Building A\n2600 Fairgrounds Blvd\nKingman, AZ 86401
X-ALT-DESC;FMTTYPE=text/html:DePuy Auction<br /><br />01/31/26 08:00 AM MST - 01/31/26 05:00 PM MST<br />Location:<br />Mohave County Fairgrounds - Expo Building A<br />2600 Fairgrounds Blvd<br />Kingman, AZ 86401
PRIORITY:3
TRANSP:TRANSPARENT
BEGIN:VALARM
TRIGGER:-PT5M
ACTION:DISPLAY
DESCRIPTION:Reminder
END:VALARM
END:VEVENT
END:VCALENDAR
