BEGIN:VCALENDAR
VERSION:2.0
CALSCALE:GREGORIAN
METHOD:PUBLISH
PRODID://JCOC//1406836
BEGIN:VEVENT
DTSTAMP:20260424T134135
VTIMEZONE:America/Chicago
DTSTART:20260123T180000Z
DTEND:20260123T190000Z
UID:1406836
SUMMARY:Legislative Lunch January 2026
LOCATION:The Ranch, 10596 S. Elm St., Jenks, OK, 74037
DESCRIPTION:Legislative Lunch January 2026\n\n01/23/26 12:00 PM CST\n - 01/23/26 01:00 PM CST\Description:\nJoin us for our Legislative Luncheon on Friday, January 23rd!\n \n\nThis program will highlight key developments at the State Capitol that impact our community and local businesses. Hear directly from area lawmakers, take part in important conversations, and connect with the leaders helping shape the future of our region.\n \n\nLegislative Luncheons are a great opportunity to stay informed, engage with elected officials, and strengthen relationships across our business and government communities.\n\n \n\nSponsored by Oklahoma Natural Gas, TulsaTech, The State Chamber, Public Service Company of Oklahoma, and Greater Tulsa Association of Realtors.\nDoors Open: 11:30AM\nProgram: 12:00PM\nLunch catered by 2 Pops Catering. \n\nClick to View: Liability Waiver\n\n \Location:\nThe Ranch\n10596 S. Elm St.\nJenks, OK 74037
X-ALT-DESC;FMTTYPE=text/html:Legislative Lunch January 2026<br /><br />01/23/26 12:00 PM CST - 01/23/26 01:00 PM CST<br />Description:<br /><p>Join us for our Legislative Luncheon on Friday, January 23rd!<br />
&nbsp;</p>

<p>This program will highlight key developments at the State Capitol that impact our community and local businesses. Hear directly from area lawmakers, take part in important conversations, and connect with the leaders helping shape the future of our region.<br />
&nbsp;</p>

<p>Legislative Luncheons are a great opportunity to stay informed, engage with elected officials, and strengthen relationships across our business and government communities.</p>

<p>&nbsp;</p>

<p><strong>Sponsored by Oklahoma Natural Gas, TulsaTech, The State Chamber, Public Service Company of Oklahoma, and Greater Tulsa Association of Realtors.</strong></p>
Doors Open: 11:30AM<br />
Program: 12:00PM<br />
Lunch catered by<strong> </strong><strong>2 Pops Catering.&nbsp;<br />
<br />
<a href="https://www.dropbox.com/scl/fi/xh0okrwobjv6y4if070ca/jenks-chamber-of-commerce-liability-waiver.pdf?rlkey=wj6uvimc4q2zlk53to4b1rgxe&amp;st=72p7pdtm&amp;dl=0"><strong>Click to View:&nbsp;<a href="https://www.dropbox.com/scl/fi/xh0okrwobjv6y4if070ca/jenks-chamber-of-commerce-liability-waiver.pdf?rlkey=wj6uvimc4q2zlk53to4b1rgxe&amp;st=72p7pdtm&amp;dl=0">Liability Waiver</a></strong></a></strong><br />
<br />
&nbsp;<br />Location:<br />The Ranch<br />10596 S. Elm St.<br />Jenks, OK 74037
PRIORITY:3
TRANSP:TRANSPARENT
BEGIN:VALARM
TRIGGER:-PT5M
ACTION:DISPLAY
DESCRIPTION:Reminder
END:VALARM
END:VEVENT
END:VCALENDAR
