BEGIN:VCALENDAR
VERSION:2.0
CALSCALE:GREGORIAN
METHOD:PUBLISH
PRODID://PLYC//1407129
BEGIN:VEVENT
DTSTAMP:20260424T095105
VTIMEZONE:America/New_York
DTSTART:20260203T160000Z
DTEND:20260224T173000Z
UID:1407129
SUMMARY:Healthy Living Month with Autumn Trace Senior Living
LOCATION:Autumn Trace, 2560 West Lake Ave., Plymouth, IN, 46563
DESCRIPTION:Healthy Living Month with Autumn Trace Senior Living\n\n02/03/26 11:00 AM EST\n - 02/24/26 12:30 PM EST\Description:\nCalling All Active Adults 55+\n\nJoin Us for a Month of Discovery at Autumn Trace!\n\nEvery Tuesday @ 11am in February 2026\n\nJoin us at Autumn Trace of Plymouth with low-pressure, high-value experiences that encourage future planning\n\nfor living your best life as you age.\n \n\nThis month, Autumn Trace welcomes adults 55+ to enjoy a free, four-week\n\nDiscovery Series designed to explore independent living through connection,\n\nlearning, and great food—all in a relaxed, no-pressure environment.\n\nEach week offers a unique way to experience life at Autumn Trace.\nEvent Overview \nâœ” Week 1 – Discover Autumn Trace: Lunch & Tour\n\nEnjoy a hosted lunch followed by a relaxed lifestyle tour highlighting independence, amenities, and the vibrant social opportunities that make Autumn Trace feel like home.\n\nWeek 2 – Experience the Lifestyle: Lunch & Learn\n\nJoin us for an engaging conversation on Living Well & Staying Independent, featuring a short educational talk paired with a fun, interactive activity.\n\nWeek 3 – Connect & Belong: Bring-a-Friend Social Hour\n\nBring a friend and unwind during a specialty drink social hour with music, laughter, and casual conversation.\n\nWeek 4 – Imagine Your Next Chapter: Day-in-the-Life Experience\n\nStep into a snapshot of daily life at Autumn Trace with a tour, activity,\n\nand lunch—all in one visit.\n \n\nReserve your place by the Friday before the next class.\n\n574-780-4504 or 574-540-2089\n\Details:\nCalling All Active Adults 55+\n\nJoin Us for a Month of Discovery at Autumn Trace!\n\nEvery Tuesday @ 11am in February 2026\n\nJoin us at Autumn Trace of Plymouth with low-pressure, high-value experiences that encourage future planning\n\nfor living your best life as you age.\n \n\nThis month, Autumn Trace welcomes adults 55+ to enjoy a free, four-week\n\nDiscovery Series designed to explore independent living through connection,\n\nlearning, and great food—all in a relaxed, no-pressure environment.\n\nEach week offers a unique way to experience life at Autumn Trace.\nEvent Overview \nâœ” Week 1 – Discover Autumn Trace: Lunch & Tour\n\nEnjoy a hosted lunch followed by a relaxed lifestyle tour highlighting independence, amenities, and the vibrant social opportunities that make Autumn Trace feel like home.\n\nWeek 2 – Experience the Lifestyle: Lunch & Learn\n\nJoin us for an engaging conversation on Living Well & Staying Independent, featuring a short educational talk paired with a fun, interactive activity.\n\nWeek 3 – Connect & Belong: Bring-a-Friend Social Hour\n\nBring a friend and unwind during a specialty drink social hour with music, laughter, and casual conversation.\n\nWeek 4 – Imagine Your Next Chapter: Day-in-the-Life Experience\n\nStep into a snapshot of daily life at Autumn Trace with a tour, activity,\n\nand lunch—all in one visit.\n \n\nReserve your place by the Friday before the next class.\n\n574-780-4504 or 574-540-2089\n\Location:\nAutumn Trace\n2560 West Lake Ave.\nPlymouth, IN 46563
X-ALT-DESC;FMTTYPE=text/html:Healthy Living Month with Autumn Trace Senior Living<br /><br />02/03/26 11:00 AM EST - 02/24/26 12:30 PM EST<br />Description:<br /><p>Calling All Active Adults 55+</p>

<p>Join Us for a Month of Discovery at Autumn Trace!</p>

<p>Every Tuesday @ 11am in February 2026</p>

<p>Join us at Autumn Trace of Plymouth with low-pressure, high-value experiences that encourage future planning</p>

<p>for living your best life as you age.<br />
&nbsp;</p>

<p>This month, Autumn Trace welcomes adults 55+ to enjoy a free, four-week</p>

<p>Discovery Series designed to explore independent living through connection,</p>

<p>learning, and great food&mdash;all in a relaxed, no-pressure environment.</p>

<p>Each week offers a unique way to experience life at Autumn Trace.<br />
Event Overview&nbsp;<br />
âœ” Week 1 &ndash; Discover Autumn Trace: Lunch &amp; Tour</p>

<p>Enjoy a hosted lunch followed by a relaxed lifestyle tour highlighting independence, amenities, and the vibrant social opportunities that make Autumn Trace feel like home.</p>

<p>Week 2 &ndash; Experience the Lifestyle: Lunch &amp; Learn</p>

<p>Join us for an engaging conversation on Living Well &amp; Staying Independent, featuring a short educational talk paired with a fun, interactive activity.</p>

<p>Week 3 &ndash; Connect &amp; Belong: Bring-a-Friend Social Hour</p>

<p>Bring a friend and unwind during a specialty drink social hour with music, laughter, and casual conversation.</p>

<p>Week 4 &ndash; Imagine Your Next Chapter: Day-in-the-Life Experience</p>

<p>Step into a snapshot of daily life at Autumn Trace with a tour, activity,</p>

<p>and lunch&mdash;all in one visit.<br />
&nbsp;</p>

<p>Reserve your place by the Friday before the next class.</p>

<p>574-780-4504 or 574-540-2089</p>
<br />Details:<br /><p>Calling All Active Adults 55+</p>

<p>Join Us for a Month of Discovery at Autumn Trace!</p>

<p>Every Tuesday @ 11am in February 2026</p>

<p>Join us at Autumn Trace of Plymouth with low-pressure, high-value experiences that encourage future planning</p>

<p>for living your best life as you age.<br />
&nbsp;</p>

<p>This month, Autumn Trace welcomes adults 55+ to enjoy a free, four-week</p>

<p>Discovery Series designed to explore independent living through connection,</p>

<p>learning, and great food&mdash;all in a relaxed, no-pressure environment.</p>

<p>Each week offers a unique way to experience life at Autumn Trace.<br />
Event Overview&nbsp;<br />
âœ” Week 1 &ndash; Discover Autumn Trace: Lunch &amp; Tour</p>

<p>Enjoy a hosted lunch followed by a relaxed lifestyle tour highlighting independence, amenities, and the vibrant social opportunities that make Autumn Trace feel like home.</p>

<p>Week 2 &ndash; Experience the Lifestyle: Lunch &amp; Learn</p>

<p>Join us for an engaging conversation on Living Well &amp; Staying Independent, featuring a short educational talk paired with a fun, interactive activity.</p>

<p>Week 3 &ndash; Connect &amp; Belong: Bring-a-Friend Social Hour</p>

<p>Bring a friend and unwind during a specialty drink social hour with music, laughter, and casual conversation.</p>

<p>Week 4 &ndash; Imagine Your Next Chapter: Day-in-the-Life Experience</p>

<p>Step into a snapshot of daily life at Autumn Trace with a tour, activity,</p>

<p>and lunch&mdash;all in one visit.<br />
&nbsp;</p>

<p>Reserve your place by the Friday before the next class.</p>

<p>574-780-4504 or 574-540-2089</p>
<br />Location:<br />Autumn Trace<br />2560 West Lake Ave.<br />Plymouth, IN 46563
PRIORITY:3
TRANSP:TRANSPARENT
BEGIN:VALARM
TRIGGER:-PT5M
ACTION:DISPLAY
DESCRIPTION:Reminder
END:VALARM
END:VEVENT
END:VCALENDAR
