BEGIN:VCALENDAR
VERSION:2.0
CALSCALE:GREGORIAN
METHOD:PUBLISH
PRODID://PLYC//1407219
BEGIN:VEVENT
DTSTAMP:20260424T072928
VTIMEZONE:America/New_York
DTSTART:20260514T130000Z
DTEND:20260517T200000Z
UID:1407219
SUMMARY:UMatter 2 Garage Sale
LOCATION:UMatter2, 18890 5th Rd, Plymouth, IN, 46563
DESCRIPTION:UMatter 2 Garage Sale\n\n05/14/26 09:00 AM EST\n - 05/17/26 04:00 PM EST\Description:\nPlease join us in supporting our Veterans and 1st Responders at our annual UMatter2 Garage Sale.  Located at 18890 5th Rd Plymout, IN 46563.  The garage sale will be open May14th - 17th from 9am - 4 pm daily.\Details:\nAll sales help Veterans and 1st Responders in need right here in our community and surrounding communities.\Location:\nUMatter2\n18890 5th Rd\nPlymouth, IN 46563
X-ALT-DESC;FMTTYPE=text/html:UMatter 2 Garage Sale<br /><br />05/14/26 09:00 AM EST - 05/17/26 04:00 PM EST<br />Description:<br />Please join us in supporting our Veterans and 1st Responders at our annual UMatter2 Garage Sale. &nbsp;Located at 18890 5th Rd Plymout, IN 46563. &nbsp;The garage sale will be open May14th - 17th from 9am - 4 pm daily.<br />Details:<br />All sales help Veterans and 1st Responders in need right here in our community and surrounding communities.<br />Location:<br />UMatter2<br />18890 5th Rd<br />Plymouth, IN 46563
PRIORITY:3
TRANSP:TRANSPARENT
BEGIN:VALARM
TRIGGER:-PT5M
ACTION:DISPLAY
DESCRIPTION:Reminder
END:VALARM
END:VEVENT
END:VCALENDAR
