BEGIN:VCALENDAR
VERSION:2.0
CALSCALE:GREGORIAN
METHOD:PUBLISH
PRODID://BETH//1407502
BEGIN:VEVENT
DTSTAMP:20260424T090017
VTIMEZONE:America/Chicago
DTSTART:20260308T000000Z
DTEND:20260308T050000Z
UID:1407502
SUMMARY:Chamber Community Fundraiser Party at the American Legion
LOCATION:, IL
DESCRIPTION:Chamber Community Fundraiser Party at the American Legion\n\n03/07/26 06:00 PM CST\n - 03/07/26 11:00 PM CST\Description:\nChamber Community Fundraiser Party at the American Legion\nMarch 7th\n6pm-11pm \nBethalto American Legion\nAdvanced Ticket Purchase Necessary
X-ALT-DESC;FMTTYPE=text/html:Chamber Community Fundraiser Party at the American Legion<br /><br />03/07/26 06:00 PM CST - 03/07/26 11:00 PM CST<br />Description:<br />Chamber Community Fundraiser Party at the American Legion<br />
March 7th<br />
6pm-11pm&nbsp;<br />
Bethalto American Legion<br />
Advanced Ticket Purchase Necessary
PRIORITY:3
TRANSP:TRANSPARENT
BEGIN:VALARM
TRIGGER:-PT5M
ACTION:DISPLAY
DESCRIPTION:Reminder
END:VALARM
END:VEVENT
END:VCALENDAR
