BEGIN:VCALENDAR
VERSION:2.0
CALSCALE:GREGORIAN
METHOD:PUBLISH
PRODID://BETH//1407503
BEGIN:VEVENT
DTSTAMP:20260424T075042
VTIMEZONE:America/Chicago
DTSTART:20260430T160000Z
DTEND:20260430T173000Z
UID:1407503
SUMMARY:Chamber Luncheon - Guest Speaker TBD 
LOCATION:, IL
DESCRIPTION:Chamber Luncheon - Guest Speaker TBD \n\n04/30/26 11:00 AM CST\n - 04/30/26 12:30 PM CST\Description:\nChamber Luncheon - Guest Speaker TBD \nDate: 4/30\nTime: 11-12:30pm\nLocation: Chamber of Commerce meeting space\nCaterer: El Mezcal 
X-ALT-DESC;FMTTYPE=text/html:Chamber Luncheon - Guest Speaker TBD <br /><br />04/30/26 11:00 AM CST - 04/30/26 12:30 PM CST<br />Description:<br />Chamber Luncheon - Guest Speaker TBD&nbsp;<br />
Date: 4/30<br />
Time: 11-12:30pm<br />
Location: Chamber of Commerce meeting space<br />
Caterer: El Mezcal&nbsp;
PRIORITY:3
TRANSP:TRANSPARENT
BEGIN:VALARM
TRIGGER:-PT5M
ACTION:DISPLAY
DESCRIPTION:Reminder
END:VALARM
END:VEVENT
END:VCALENDAR
