BEGIN:VCALENDAR
VERSION:2.0
CALSCALE:GREGORIAN
METHOD:PUBLISH
PRODID://BETH//1407504
BEGIN:VEVENT
DTSTAMP:20260424T090016
VTIMEZONE:America/Chicago
DTSTART:20260528T160000Z
DTEND:20260528T173000Z
UID:1407504
SUMMARY:Chamber Luncheon - Guest Speaker: Village Admin
LOCATION:, IL
DESCRIPTION:Chamber Luncheon - Guest Speaker: Village Admin\n\n05/28/26 11:00 AM CST\n - 05/28/26 12:30 PM CST\Description:\nChamber Luncheon - Guest Speaker: Village Admin\nDate: 5/28\nTime: 11-12:30pm\nLocation: Chamber of Commerce meeting space\nCaterer: Laux 
X-ALT-DESC;FMTTYPE=text/html:Chamber Luncheon - Guest Speaker: Village Admin<br /><br />05/28/26 11:00 AM CST - 05/28/26 12:30 PM CST<br />Description:<br />Chamber Luncheon - Guest Speaker: Village Admin<br />
Date: 5/28<br />
Time: 11-12:30pm<br />
Location: Chamber of Commerce meeting space<br />
Caterer: Laux&nbsp;
PRIORITY:3
TRANSP:TRANSPARENT
BEGIN:VALARM
TRIGGER:-PT5M
ACTION:DISPLAY
DESCRIPTION:Reminder
END:VALARM
END:VEVENT
END:VCALENDAR
