BEGIN:VCALENDAR
VERSION:2.0
CALSCALE:GREGORIAN
METHOD:PUBLISH
PRODID://BETH//1407505
BEGIN:VEVENT
DTSTAMP:20260424T101702
VTIMEZONE:America/Chicago
DTSTART:20260625T160000Z
DTEND:20260625T173000Z
UID:1407505
SUMMARY:Chamber Luncheon - Guest Speaker: TBD
LOCATION:, IL
DESCRIPTION:Chamber Luncheon - Guest Speaker: TBD\n\n06/25/26 11:00 AM CST\n - 06/25/26 12:30 PM CST\Description:\nChamber Luncheon - Guest Speaker: TBD\nDate: 6/25\nTime: 11-12:30pm\nLocation: Bethalto Chamber of Commerce meeting space\nCaterer: B-Town Restaurant
X-ALT-DESC;FMTTYPE=text/html:Chamber Luncheon - Guest Speaker: TBD<br /><br />06/25/26 11:00 AM CST - 06/25/26 12:30 PM CST<br />Description:<br />Chamber Luncheon - Guest Speaker: TBD<br />
Date: 6/25<br />
Time: 11-12:30pm<br />
Location: Bethalto Chamber of Commerce meeting space<br />
Caterer: B-Town Restaurant
PRIORITY:3
TRANSP:TRANSPARENT
BEGIN:VALARM
TRIGGER:-PT5M
ACTION:DISPLAY
DESCRIPTION:Reminder
END:VALARM
END:VEVENT
END:VCALENDAR
