BEGIN:VCALENDAR
VERSION:2.0
CALSCALE:GREGORIAN
METHOD:PUBLISH
PRODID://BETH//1407506
BEGIN:VEVENT
DTSTAMP:20260424T123927
VTIMEZONE:America/Chicago
DTSTART:20260827T160000Z
DTEND:20260827T173000Z
UID:1407506
SUMMARY:Chamber Luncheon - Guest Speaker: TBD
LOCATION:, IL
DESCRIPTION:Chamber Luncheon - Guest Speaker: TBD\n\n08/27/26 11:00 AM CST\n - 08/27/26 12:30 PM CST\Description:\nChamber Luncheon - Guest Speaker: TBD\nDate: August 27\nTime: 11-12:30pm\nLocation: Bethalto Chamber of Commerce meeting space\nCaterer: El Mezcal 
X-ALT-DESC;FMTTYPE=text/html:Chamber Luncheon - Guest Speaker: TBD<br /><br />08/27/26 11:00 AM CST - 08/27/26 12:30 PM CST<br />Description:<br />Chamber Luncheon - Guest Speaker: TBD<br />
Date: August 27<br />
Time: 11-12:30pm<br />
Location: Bethalto Chamber of Commerce meeting space<br />
Caterer: El Mezcal&nbsp;
PRIORITY:3
TRANSP:TRANSPARENT
BEGIN:VALARM
TRIGGER:-PT5M
ACTION:DISPLAY
DESCRIPTION:Reminder
END:VALARM
END:VEVENT
END:VCALENDAR
