BEGIN:VCALENDAR
VERSION:2.0
CALSCALE:GREGORIAN
METHOD:PUBLISH
PRODID://BETH//1407507
BEGIN:VEVENT
DTSTAMP:20260424T134134
VTIMEZONE:America/Chicago
DTSTART:20260924T220000Z
DTEND:20260924T233000Z
UID:1407507
SUMMARY:Chamber after hours 
LOCATION:, IL
DESCRIPTION:Chamber after hours \n\n09/24/26 05:00 PM CST\n - 09/24/26 06:30 PM CST\Description:\nChamber after hours \nDate: September 24\nTime: 5pm - 6:30pm\nLocation: Geno's 140\n 
X-ALT-DESC;FMTTYPE=text/html:Chamber after hours <br /><br />09/24/26 05:00 PM CST - 09/24/26 06:30 PM CST<br />Description:<br />Chamber after hours&nbsp;<br />
Date: September 24<br />
Time: 5pm - 6:30pm<br />
Location: Geno's 140<br />
&nbsp;
PRIORITY:3
TRANSP:TRANSPARENT
BEGIN:VALARM
TRIGGER:-PT5M
ACTION:DISPLAY
DESCRIPTION:Reminder
END:VALARM
END:VEVENT
END:VCALENDAR
