BEGIN:VCALENDAR
VERSION:2.0
CALSCALE:GREGORIAN
METHOD:PUBLISH
PRODID://BETH//1407511
BEGIN:VEVENT
DTSTAMP:20260424T145959
VTIMEZONE:America/Chicago
DTSTART:20261119T170000Z
DTEND:20261119T183000Z
UID:1407511
SUMMARY:Chamber Luncheon - Guest Speaker: CMHS
LOCATION:, IL
DESCRIPTION:Chamber Luncheon - Guest Speaker: CMHS\n\n11/19/26 11:00 AM CST\n - 11/19/26 12:30 PM CST\Description:\nChamber Luncheon - Guest Speaker: CMHS\nDate: 11/19\nTime: 11-12:30pm\nLocation: Bethalto Chamber of Commerce meeting space\nCaterer: CMHS
X-ALT-DESC;FMTTYPE=text/html:Chamber Luncheon - Guest Speaker: CMHS<br /><br />11/19/26 11:00 AM CST - 11/19/26 12:30 PM CST<br />Description:<br />Chamber Luncheon - Guest Speaker: CMHS<br />
Date: 11/19<br />
Time: 11-12:30pm<br />
Location: Bethalto Chamber of Commerce meeting space<br />
Caterer: CMHS
PRIORITY:3
TRANSP:TRANSPARENT
BEGIN:VALARM
TRIGGER:-PT5M
ACTION:DISPLAY
DESCRIPTION:Reminder
END:VALARM
END:VEVENT
END:VCALENDAR
