BEGIN:VCALENDAR
VERSION:2.0
CALSCALE:GREGORIAN
METHOD:PUBLISH
PRODID://JCOC//1407515
BEGIN:VEVENT
DTSTAMP:20260424T123213
VTIMEZONE:America/Chicago
DTSTART:20260204T200000Z
DTEND:20260204T210000Z
UID:1407515
SUMMARY:Ribbon Cutting: Needle Little Love
LOCATION:, 601 S Main Street , Jenks, OK, 74037
DESCRIPTION:Ribbon Cutting: Needle Little Love\n\n02/04/26 02:00 PM CST\n - 02/04/26 03:00 PM CST\Description:\nJoin us for a ribbon cutting celebrating the grand opening of Needle Little Love Stitchery Boutique at 601 S Main Street in Jenks. This charming new boutique is a place to learn needlepoint, gather with friends, and enjoy the art of stitching in a warm, welcoming and creative community. Help us welcome Needle Little Love as a new Main Street business and celebrate this exciting addition to our local business family!\Location:\n\n601 S Main Street \nJenks, OK 74037
X-ALT-DESC;FMTTYPE=text/html:Ribbon Cutting: Needle Little Love<br /><br />02/04/26 02:00 PM CST - 02/04/26 03:00 PM CST<br />Description:<br />Join us for a ribbon cutting celebrating the grand opening of Needle Little Love Stitchery Boutique at 601 S Main Street in Jenks. This charming new boutique is a place to learn needlepoint, gather with friends, and enjoy the art of stitching in a warm, welcoming and creative community. Help us welcome Needle Little Love as a new Main Street business and celebrate this exciting addition to our local business family!<br />Location:<br /><br />601 S Main Street <br />Jenks, OK 74037
PRIORITY:3
TRANSP:TRANSPARENT
BEGIN:VALARM
TRIGGER:-PT5M
ACTION:DISPLAY
DESCRIPTION:Reminder
END:VALARM
END:VEVENT
END:VCALENDAR
