BEGIN:VCALENDAR
VERSION:2.0
CALSCALE:GREGORIAN
METHOD:PUBLISH
PRODID://JCOC//1407560
BEGIN:VEVENT
DTSTAMP:20260424T134135
VTIMEZONE:America/Chicago
DTSTART:20260128T173000Z
DTEND:20260128T190000Z
UID:1407560
SUMMARY:Lunch & Learn: County Officials
LOCATION:The Ranch, 10596 South Elm St, Jenks, OK, 74037
DESCRIPTION:Lunch & Learn: County Officials\n\n01/28/26 11:30 AM CST\n - 01/28/26 01:00 PM CST\Description:\nPresented by Red River Payroll\n \nLunch & Learn: County Officials\n\nJenks Chamber invites you to attend a Lunch & Learn featuring a panel of Tulsa County officials who will share updates, answer questions, and help you better understand how county government works.\n\nHear directly from:\n• Lonnie Sims, Tulsa County Commissioner\n• Kelly Dunkerley, Tulsa County Commissioner\n• John Wright, Tulsa County Assessor\n• John Fothergill, Tulsa County Treasurer\n\nThis informative session will cover the state of Tulsa County, tax assessment and valuation, and key county services that impact residents and businesses. The panel will discuss topics such as Homestead Exemption, property valuations and taxes, county operations, and how local government decisions affect the community.\n\nHave questions about Homestead Exemption? Property values? Where your tax dollars go? How to navigate county offices? This is your opportunity to ask!\n\nThe program will include brief presentations, a moderated panel discussion, and dedicated time for audience Q & A. \n\nLunch catered by Mi Tierra Cocina Mexicana.\n\nClick to View: Liability Waiver\n\Location:\nThe Ranch\n10596 South Elm St\nJenks, OK 74037
X-ALT-DESC;FMTTYPE=text/html:Lunch & Learn: County Officials<br /><br />01/28/26 11:30 AM CST - 01/28/26 01:00 PM CST<br />Description:<br />Presented by Red River Payroll<br />
&nbsp;
<p>Lunch &amp; Learn: County Officials</p>

<p data-end="326" data-start="129">Jenks Chamber invites you to attend a Lunch &amp; Learn featuring a panel of Tulsa County officials who will share updates, answer questions, and help you better understand how county government works.</p>

<p data-end="522" data-start="328">Hear directly from:<br data-end="350" data-start="347" />
&bull; Lonnie Sims, Tulsa County Commissioner<br data-end="393" data-start="390" />
&bull; Kelly Dunkerley, Tulsa County Commissioner<br data-end="440" data-start="437" />
&bull; John Wright, Tulsa County Assessor<br data-end="479" data-start="476" />
&bull; John Fothergill, Tulsa County Treasurer</p>

<p data-end="829" data-start="524">This informative session will cover the state of Tulsa County, tax assessment and valuation, and key county services that impact residents and businesses. The panel will discuss topics such as Homestead Exemption, property valuations and taxes, county operations, and how local government decisions affect the community.</p>

<p data-end="981" data-start="831">Have questions about Homestead Exemption? Property values? Where your tax dollars go? How to navigate county offices? This is your opportunity to ask!</p>

<p data-end="1116" data-start="983">The program will include brief presentations, a moderated panel discussion, and dedicated time for audience Q &amp; A.&nbsp;<br />
<br />
Lunch catered by <strong>Mi Tierra&nbsp;Cocina Mexicana</strong>.<br />
<br />
<strong>Click to View:&nbsp;<a href="https://www.dropbox.com/scl/fi/xh0okrwobjv6y4if070ca/jenks-chamber-of-commerce-liability-waiver.pdf?rlkey=wj6uvimc4q2zlk53to4b1rgxe&amp;st=72p7pdtm&amp;dl=0">Liability Waiver</a></strong></p>
<br />Location:<br />The Ranch<br />10596 South Elm St<br />Jenks, OK 74037
PRIORITY:3
TRANSP:TRANSPARENT
BEGIN:VALARM
TRIGGER:-PT5M
ACTION:DISPLAY
DESCRIPTION:Reminder
END:VALARM
END:VEVENT
END:VCALENDAR
