BEGIN:VCALENDAR
VERSION:2.0
CALSCALE:GREGORIAN
METHOD:PUBLISH
PRODID://HAVR//1407828
BEGIN:VEVENT
DTSTAMP:20260424T101741
VTIMEZONE:America/New_York
DTSTART:20260217T230000Z
DTEND:20260218T000000Z
UID:1407828
SUMMARY:Mardi Gras Parade
LOCATION:Downtown Havre De Grace, Havre De Grace, MD, 21078
DESCRIPTION:Mardi Gras Parade\n\n02/17/26 06:00 PM EST\n - 02/17/26 07:00 PM EST\Description:\nFor more than 15 years, our community has come together to celebrate the vibrant tradition of Mardi Gras in downtown Havre de Grace—and we’re ready to do it again!\n\nJoin us Tuesday, February 17, at 6 PM as our annual Mardi Gras Parade lights up the city. The parade will travel down “Bourbon Street,” continue along Washington Street, and end at the American Legion on St. John Street.\n\nThis family-friendly celebration is full of color, music, and joy—so bundle up and bring the kids! Beads, toys, coins, and more will be thrown from the floats.\nFor more information on how to participate, visit Explore Havre De Grace!\Location:\nDowntown Havre De Grace\n\nHavre De Grace, MD 21078
X-ALT-DESC;FMTTYPE=text/html:Mardi Gras Parade<br /><br />02/17/26 06:00 PM EST - 02/17/26 07:00 PM EST<br />Description:<br /><p>For more than 15 years, our community has come together to celebrate the vibrant tradition of Mardi Gras in downtown Havre de Grace&mdash;and we&rsquo;re ready to do it again!</p>

<p>Join us Tuesday, February 17, at 6 PM as our annual Mardi Gras Parade lights up the city. The parade will travel down &ldquo;Bourbon Street,&rdquo; continue along Washington Street, and end at the American Legion on St. John Street.</p>

<p>This family-friendly celebration is full of color, music, and joy&mdash;so bundle up and bring the kids! Beads, toys, coins, and more will be thrown from the floats.</p>
For more information on how to participate, visit <a href="https://explorehavredegrace.com/event/mardi-gras-parade-2/">Explore Havre De Grace</a>!<br />Location:<br />Downtown Havre De Grace<br /><br />Havre De Grace, MD 21078
PRIORITY:3
TRANSP:TRANSPARENT
BEGIN:VALARM
TRIGGER:-PT5M
ACTION:DISPLAY
DESCRIPTION:Reminder
END:VALARM
END:VEVENT
END:VCALENDAR
