BEGIN:VCALENDAR
VERSION:2.0
CALSCALE:GREGORIAN
METHOD:PUBLISH
PRODID://COWC//1408009
BEGIN:VEVENT
DTSTAMP:20260425T182127
VTIMEZONE:America/Chicago
DTSTART:20260318T163000Z
DTEND:20260318T183000Z
UID:1408009
SUMMARY:Chamber Annual Meeting Featuring Dave Molenda, TDC, TDFC, TEQC
LOCATION:Tuscan Hall, 409 Delafield Street, Waukesha, WI, 53186
DESCRIPTION:Chamber Annual Meeting Featuring Dave Molenda, TDC, TDFC, TEQC\n\n03/18/26 11:30 AM CST\n - 03/18/26 01:30 PM CST\Description:\nMark your calendar for Wednesday, March 18th for your Chamber Annual Meeting!\nTOPIC: The Likability Advantage: Building Teams People Want to Work With - And Work Hard For\n \Location:\nTuscan Hall\n409 Delafield Street\nWaukesha, WI 53186
X-ALT-DESC;FMTTYPE=text/html:Chamber Annual Meeting Featuring Dave Molenda, TDC, TDFC, TEQC<br /><br />03/18/26 11:30 AM CST - 03/18/26 01:30 PM CST<br />Description:<br />Mark your calendar for Wednesday, March 18th for your Chamber Annual Meeting!<br />
TOPIC: The Likability Advantage: Building Teams People Want to Work With - And Work Hard For<br />
&nbsp;<br />Location:<br />Tuscan Hall<br />409 Delafield Street<br />Waukesha, WI 53186
PRIORITY:3
TRANSP:TRANSPARENT
BEGIN:VALARM
TRIGGER:-PT5M
ACTION:DISPLAY
DESCRIPTION:Reminder
END:VALARM
END:VEVENT
END:VCALENDAR
