BEGIN:VCALENDAR
VERSION:2.0
CALSCALE:GREGORIAN
METHOD:PUBLISH
PRODID://KING//1408329
BEGIN:VEVENT
DTSTAMP:20260422T065724
VTIMEZONE:America/Phoenix
DTSTART:20260828T003000Z
DTEND:20260828T020000Z
UID:1408329
SUMMARY:Evening Mixer
LOCATION:TBD
DESCRIPTION:Evening Mixer\n\n08/27/26 05:30 PM MT\n - 08/27/26 07:00 PM MT\Description:\nKingman Area Chamber Evening Mixer\n\nThis complimentary networking event is open to Chamber members, business owners, and the public. Attendees are invited to connect with local professionals, community leaders, and entrepreneurs in a relaxed and welcoming environment.\n\nThe Evening Mixer offers a great opportunity to learn more about other businesses, meet their team, and build meaningful relationships within Kingman’s business community.\n\nDate: Fourth Thursday Each Month\nTime: 5:30 PM \nLocation: TBD\n\nAll Chamber Member Businesses are invited to participate in the 2026 Evening Mixer Series in multiple ways; bring a raffle item or door prize, sign up to host a mixer or come speak and tell everyone about your business. All new members are invited to come introduce themselves and be added to each Evening Mixer agenda.\n\Location:\nTBD\n\n,
X-ALT-DESC;FMTTYPE=text/html:Evening Mixer<br /><br />08/27/26 05:30 PM MT - 08/27/26 07:00 PM MT<br />Description:<br /><p data-end="174" data-start="123"><span style="font-size:14px"><strong data-end="174" data-start="123">Kingman Area Chamber Evening Mixer</strong></span></p>

<p data-end="574" data-start="342"><span style="font-size:14px">This complimentary networking event is open to Chamber members, business owners, and the public. Attendees are invited to connect with local professionals, community leaders, and entrepreneurs in a relaxed and welcoming environment.</span></p>

<p data-end="1131" data-start="945"><span style="font-size:14px">The Evening Mixer offers a great opportunity to learn more about other businesses,&nbsp;meet their team, and build meaningful relationships within Kingman&rsquo;s business community.</span></p>

<p data-end="1306" data-start="1133"><span style="font-size:14px"><strong data-end="1142" data-start="1133">Date:</strong>&nbsp;Fourth Thursday Each Month<br data-end="1170" data-start="1167" />
<strong data-end="1179" data-start="1170">Time:</strong>&nbsp;5:30 PM&nbsp;<br data-end="1201" data-start="1198" />
<strong data-end="1214" data-start="1201">Location:</strong>&nbsp;TBD<br />
<br />
All Chamber Member Businesses are invited to participate in the 2026 Evening Mixer Series in multiple ways; bring a raffle item or door prize, sign up to host a mixer or come speak and tell everyone about your business. All new members are invited to come introduce themselves and be added to each Evening Mixer agenda.</span></p>
<br />Location:<br />TBD<br /><br />,  
PRIORITY:3
TRANSP:TRANSPARENT
BEGIN:VALARM
TRIGGER:-PT5M
ACTION:DISPLAY
DESCRIPTION:Reminder
END:VALARM
END:VEVENT
END:VCALENDAR
