BEGIN:VCALENDAR
VERSION:2.0
CALSCALE:GREGORIAN
METHOD:PUBLISH
PRODID://OCON//1408537
BEGIN:VEVENT
DTSTAMP:20260424T115512
VTIMEZONE:America/New_York
DTSTART:20260210T213000Z
DTEND:20260210T230000Z
UID:1408537
SUMMARY:Business After Hours | Oconee State Bank
LOCATION:Oconee State Bank, 35 North Main Street, Watkinsville, GA, 30677
DESCRIPTION:Business After Hours | Oconee State Bank\n\n02/10/26 04:30 PM EST\n - 02/10/26 06:00 PM EST\Description:\nA fun, casual open networking event held at an Oconee Chamber Partner's location. \Location:\nOconee State Bank\n35 North Main Street\nWatkinsville, GA 30677
X-ALT-DESC;FMTTYPE=text/html:Business After Hours | Oconee State Bank<br /><br />02/10/26 04:30 PM EST - 02/10/26 06:00 PM EST<br />Description:<br />A fun, casual open networking event held at an Oconee Chamber Partner's location.&nbsp;<br />Location:<br />Oconee State Bank<br />35 North Main Street<br />Watkinsville, GA 30677
PRIORITY:3
TRANSP:TRANSPARENT
BEGIN:VALARM
TRIGGER:-PT5M
ACTION:DISPLAY
DESCRIPTION:Reminder
END:VALARM
END:VEVENT
END:VCALENDAR
