BEGIN:VCALENDAR
VERSION:2.0
CALSCALE:GREGORIAN
METHOD:PUBLISH
PRODID://OCON//1408548
BEGIN:VEVENT
DTSTAMP:20260424T104600
VTIMEZONE:America/New_York
DTSTART:20260303T143000Z
DTEND:20260303T153000Z
UID:1408548
SUMMARY:New Partner Orientation | Sponsored by Twisted Moon Studios
LOCATION:Oconee Chamber of Commerce, 55 Nancy Drive, Watkinsville, GA, 30677
DESCRIPTION:New Partner Orientation | Sponsored by Twisted Moon Studios\n\n03/03/26 09:30 AM EST\n - 03/03/26 10:30 AM EST\Description:\nThis opportunity will cover partnership benefits, provide new partners with tools to take their investments to the next level and a chance to meet your fellow partners.\n \n\nAs space is limited, we ask that only 2 individuals from your business attend the event.\n*Registration will be required for this event\n\Location:\nOconee Chamber of Commerce\n55 Nancy Drive\nWatkinsville, GA 30677
X-ALT-DESC;FMTTYPE=text/html:New Partner Orientation | Sponsored by Twisted Moon Studios<br /><br />03/03/26 09:30 AM EST - 03/03/26 10:30 AM EST<br />Description:<br /><p>This opportunity will cover partnership benefits, provide new partners with tools to take their investments to the next level and a chance to meet your fellow partners.<br />
&nbsp;</p>

<p>As space is limited, we ask that only 2 individuals from your business attend the event.<br />
*<em>Registration will be required for this event</em></p>
<br />Location:<br />Oconee Chamber of Commerce<br />55 Nancy Drive<br />Watkinsville, GA 30677
PRIORITY:3
TRANSP:TRANSPARENT
BEGIN:VALARM
TRIGGER:-PT5M
ACTION:DISPLAY
DESCRIPTION:Reminder
END:VALARM
END:VEVENT
END:VCALENDAR
