BEGIN:VCALENDAR
VERSION:2.0
CALSCALE:GREGORIAN
METHOD:PUBLISH
PRODID://JCOC//1408783
BEGIN:VEVENT
DTSTAMP:20260424T112911
VTIMEZONE:America/Chicago
DTSTART:20260303T153000Z
DTEND:20260305T013000Z
UID:1408783
SUMMARY:Day at the Capitol
LOCATION:Oklahoma State Capitol, 10596 South Elm Street, Jenks, Ok, 74037
DESCRIPTION:Day at the Capitol\n\n03/03/26 09:30 AM CST\n - 03/04/26 07:30 PM CST\Description:\nBreakfast Sponsored by Bank of Oklahoma\n\nJoin fellow Jenks Chamber members and see your legislators in action at the State Capitol. This overnight event includes opportunities to network with Chamber members and state leaders, along with a dinner and evening reception. Attendees will learn more about the legislative process while building meaningful connections with decision-makers.  The cut-off date for our booking our reserved block of rooms at the OMNI is Monday, February 2nd.\n\nSpace is limited\Location:\nOklahoma State Capitol\n10596 South Elm Street\nJenks, Ok 74037
X-ALT-DESC;FMTTYPE=text/html:Day at the Capitol<br /><br />03/03/26 09:30 AM CST - 03/04/26 07:30 PM CST<br />Description:<br /><strong>Breakfast Sponsored by Bank of Oklahoma</strong><br />
<br />
Join fellow Jenks Chamber members and see your legislators in action at the State Capitol. This overnight event includes opportunities to network with Chamber members and state leaders, along with a dinner and evening reception. Attendees will learn more about the legislative process while building meaningful connections with decision-makers. &nbsp;The cut-off date for our booking our reserved block of rooms at the OMNI is&nbsp;<strong>Monday, February 2<sup>nd.<br />
<br />
Space is limited</sup></strong><br />Location:<br />Oklahoma State Capitol<br />10596 South Elm Street<br />Jenks, Ok 74037
PRIORITY:3
TRANSP:TRANSPARENT
BEGIN:VALARM
TRIGGER:-PT5M
ACTION:DISPLAY
DESCRIPTION:Reminder
END:VALARM
END:VEVENT
END:VCALENDAR
