BEGIN:VCALENDAR
VERSION:2.0
CALSCALE:GREGORIAN
METHOD:PUBLISH
PRODID://PLYC//1409076
BEGIN:VEVENT
DTSTAMP:20260424T095140
VTIMEZONE:America/New_York
DTSTART:20260215T000000Z
DTEND:20260215T020000Z
UID:1409076
SUMMARY:Paint Your Partner
LOCATION:Heartland Art Center, 214 N. Michigan St., Plymouth, IN, 46563-8504
DESCRIPTION:Paint Your Partner\n\n02/14/26 07:00 PM EST\n - 02/14/26 09:00 PM EST\Description:\nValentine’s Day does not have to involve roses, prix fixe menus, or pretending to enjoy chocolates with fruit inside them.\n\nIf you are looking for something fun, creative, and refreshingly low pressure, Heartland Art Center invites you to Paint Your Person, an intentionally unserious portrait painting experience led by our professional artists who promise not to judge your skills or your subject.\n\nBring your partner.\nBring your best friend.\nBring your kid, your sibling, your friend group, or the person you tolerate the most!\n\nAnd, BYOB!  Or opt for the bubbly package!\n\nRomance is optional. Laughing is encouraged.\n\nThis is sort of a class, but mostly a fun experience with paint, music, snacks, some Valentine's trivia and guidance from artists who know how to keep things moving and light.\n\Details:\nðŸŽ¨ Paint Your Person\nðŸ“… Saturday, February 14 | 7–9 PM\nðŸ“ Heartland Art Center\n214 N. Michigan St., Plymouth, IN\n\nREGISTER HERE!\n\n\nEvent Packages\n\nðŸ’˜ Creative Cupids – $40/person\nIncludes all painting supplies, games, music, appetizers, and BYOB fun.\n\nðŸ«ðŸ¥‚ Truffles and Toast – $50/person\nIncludes everything above plus a glass of sparkling wine and two truffles from Veni’s Sweet Shop.\n\n\nðŸ½ï¸ Make it a night out!\nDine at a local restaurant before the event and bring your 2/14/26 receipt to earn $5 in HAC Gallery Cash, good toward any item in the Heartland Artists gift shop.\n\n\nâ¤ï¸ Why it matters\nHeartland Art Center is a 501(c)(3) nonprofit visual arts organization. All proceeds support our building renovation campaign—helping preserve and transform the historic Montgomery Ward building into a vibrant hub for the arts.\n\Location:\nHeartland Art Center\n214 N. Michigan St.\nPlymouth, IN 46563-8504
X-ALT-DESC;FMTTYPE=text/html:Paint Your Partner<br /><br />02/14/26 07:00 PM EST - 02/14/26 09:00 PM EST<br />Description:<br /><p>Valentine&rsquo;s Day does not have to involve roses, prix fixe menus, or pretending to enjoy chocolates with fruit inside them.</p>

<p>If you are looking for something fun, creative, and refreshingly low pressure, Heartland Art Center invites you to<a href="https://www.cognitoforms.com/HeartlandArtists1/PaintYourPerson" rel="nofollow noopener noreferrer" shape="rect" target="_blank">&nbsp;<strong>Paint Your Person</strong></a>, an intentionally unserious portrait painting experience led by our professional artists who promise not to judge your skills or your subject.</p>

<p>Bring your partner.<br clear="none" />
Bring your best friend.<br clear="none" />
Bring your kid, your sibling, your friend group, or the person you tolerate the most!</p>

<p>And, BYOB!&nbsp; Or opt for the bubbly package!</p>

<p>Romance is optional. Laughing is encouraged.</p>

<p>This is sort of a class, but mostly a fun experience with paint, music, snacks, some Valentine's trivia and guidance from artists who know how to keep things moving and light.</p>
<br />Details:<br /><p>ðŸŽ¨&nbsp;<strong>Paint Your Person</strong><br clear="none" />
ðŸ“…&nbsp;<strong>Saturday, February 14 | 7&ndash;9 PM</strong><br clear="none" />
ðŸ“&nbsp;<strong>Heartland Art Center</strong><br clear="none" />
214 N. Michigan St., Plymouth, IN</p>

<p><strong><a href="https://www.cognitoforms.com/HeartlandArtists1/PaintYourPerson" rel="nofollow noopener noreferrer" shape="rect" target="_blank">REGISTER HERE</a>!</strong></p>

<hr align="center" size="2" width="100%" />
<p><strong>Event Packages</strong></p>

<p>ðŸ’˜&nbsp;<strong>Creative Cupids &ndash; $40/person</strong><br clear="none" />
Includes all painting supplies, games, music, appetizers, and BYOB fun.</p>

<p>ðŸ«ðŸ¥‚&nbsp;<strong>Truffles and Toast &ndash; $50/person</strong><br clear="none" />
Includes everything above&nbsp;<strong>plus</strong>&nbsp;a glass of sparkling wine and&nbsp;<strong>two truffles from Veni&rsquo;s Sweet Shop</strong>.</p>

<hr align="center" size="2" width="100%" />
<p>ðŸ½ï¸&nbsp;<strong>Make it a night out!</strong><br clear="none" />
Dine at a local restaurant before the event and bring your&nbsp;<strong>2/14/26 receipt</strong>&nbsp;to earn&nbsp;<strong>$5 in HAC Gallery Cash</strong>, good toward any item in the Heartland Artists gift shop.</p>

<hr align="center" size="2" width="100%" />
<p>â¤ï¸&nbsp;<strong>Why it matters</strong><br clear="none" />
Heartland Art Center is a 501(c)(3) nonprofit visual arts organization. All proceeds support our building renovation campaign&mdash;helping preserve and transform the historic Montgomery Ward building into a vibrant hub for the arts.</p>
<br />Location:<br />Heartland Art Center<br />214 N. Michigan St.<br />Plymouth, IN 46563-8504
PRIORITY:3
TRANSP:TRANSPARENT
BEGIN:VALARM
TRIGGER:-PT5M
ACTION:DISPLAY
DESCRIPTION:Reminder
END:VALARM
END:VEVENT
END:VCALENDAR
