BEGIN:VCALENDAR
VERSION:2.0
CALSCALE:GREGORIAN
METHOD:PUBLISH
PRODID://BETH//1409589
BEGIN:VEVENT
DTSTAMP:20260424T101545
VTIMEZONE:America/Chicago
DTSTART:20260226T170000Z
DTEND:20260226T183000Z
UID:1409589
SUMMARY:Chamber Luncheon - Guest Speaker: Danny Adams, SLRA Director Air Race Classic Update
LOCATION:, IL
DESCRIPTION:Chamber Luncheon - Guest Speaker: Danny Adams, SLRA Director Air Race Classic Update\n\n02/26/26 11:00 AM CST\n - 02/26/26 12:30 PM CST\Description:\nChamber Luncheon - Guest Speaker: Danny Adams, SLRA Director Air Race Classic Update\nLocation: Bethalto Chamber of Commerce meeting space\nCaterer: B-Town Restaurant\nTime: 11-12:30pm\nDate: 2/26
X-ALT-DESC;FMTTYPE=text/html:Chamber Luncheon - Guest Speaker: Danny Adams, SLRA Director Air Race Classic Update<br /><br />02/26/26 11:00 AM CST - 02/26/26 12:30 PM CST<br />Description:<br />Chamber Luncheon - Guest Speaker: Danny Adams, SLRA Director Air Race Classic Update<br />
Location: Bethalto Chamber of Commerce meeting space<br />
Caterer: B-Town Restaurant<br />
Time: 11-12:30pm<br />
Date: 2/26
PRIORITY:3
TRANSP:TRANSPARENT
BEGIN:VALARM
TRIGGER:-PT5M
ACTION:DISPLAY
DESCRIPTION:Reminder
END:VALARM
END:VEVENT
END:VCALENDAR
